BEGIN:VCALENDAR
VERSION:2.0
PRODID:-//Uit in Arnhem - ECPv5.0.0.2//NONSGML v1.0//EN
CALSCALE:GREGORIAN
METHOD:PUBLISH
X-WR-CALNAME:Uit in Arnhem
X-ORIGINAL-URL:https://uitinarnhem.nl
X-WR-CALDESC:Events for Uit in Arnhem
BEGIN:VTIMEZONE
TZID:Europe/Amsterdam
BEGIN:DAYLIGHT
TZOFFSETFROM:+0100
TZOFFSETTO:+0200
TZNAME:CEST
DTSTART:20240331T010000
END:DAYLIGHT
BEGIN:STANDARD
TZOFFSETFROM:+0200
TZOFFSETTO:+0100
TZNAME:CET
DTSTART:20241027T010000
END:STANDARD
END:VTIMEZONE
BEGIN:VEVENT
DTSTART;TZID=Europe/Amsterdam:20241221T203000
DTEND;TZID=Europe/Amsterdam:20241221T223000
DTSTAMP:20260421T055640
CREATED:20241209T184209Z
LAST-MODIFIED:20241209T184209Z
UID:11971-1734813000-1734820200@uitinarnhem.nl
SUMMARY:Kerst op Sterk Water in Posttheater
DESCRIPTION:Dit jaar komt de inmiddels traditionele Kerst-Op-Sterk-Water Show opnieuw naar het Posttheater! Het is weer december: de maand vol cadeaus\, oma’s\, sjoelen en meer van die gezelligheid. Kom op 21 december genieten van de compleet geïmproviseerde voorstelling van Op Sterk Water\, waarin het publiek de inhoud bepaalt. \nMisschien spelen ze een scene over het nieuwe recept voor de kerststol van bakkerij Tom van Otterloo\, een hartverscheurend lied over de toekomst van de zorgzone aan de Oude Veerweg\, of over hoe tante Annie tijdens een fietstochtje in de Neder-Rijn terecht kwam. Op Sterk Water brengt de gekke\, grappige\, en soms gênante momenten uit Arnhem en daarbuiten tot leven met hun hilarische improvisaties. Met Dave Luza\, Maaike Martens\, Daniel Koopmans en met op de piano: Sacha Hoedemaker. \nDeze kerstvoorstelling belooft een avond vol verrassingen\, humor en onvergetelijke momenten te worden. Mis het niet! Dus reserveer nu je tickets en maak je klaar voor een kerstfeest dat je nog lang zal heugen! \nOp Sterk Water is al 25 jaar dé toonaangevende cabaretgroep als het gaat om improvisatietheater. Elke show is anders en toegespitst op het publiek\, maar altijd muzikaal en bovenal hilarisch. \n
URL:https://uitinarnhem.nl/agenda/kerst-op-sterk-water-in-posttheater/
LOCATION:Posttheater\, Rosendaalsestraat 27\, Arnhem\, 6824 CA\, Nederland
CATEGORIES:Cabaret,Theater
ATTACH;FMTTYPE=image/jpeg:https://uitinarnhem.nl/wp-content/uploads/2024/12/467314382_1082618006990941_8630637450784848611_n.jpg
END:VEVENT
END:VCALENDAR