BEGIN:VCALENDAR
VERSION:2.0
PRODID:-//Uit in Arnhem - ECPv5.0.0.2//NONSGML v1.0//EN
CALSCALE:GREGORIAN
METHOD:PUBLISH
X-WR-CALNAME:Uit in Arnhem
X-ORIGINAL-URL:https://uitinarnhem.nl
X-WR-CALDESC:Events for Uit in Arnhem
BEGIN:VTIMEZONE
TZID:Europe/Amsterdam
BEGIN:DAYLIGHT
TZOFFSETFROM:+0100
TZOFFSETTO:+0200
TZNAME:CEST
DTSTART:20240331T010000
END:DAYLIGHT
BEGIN:STANDARD
TZOFFSETFROM:+0200
TZOFFSETTO:+0100
TZNAME:CET
DTSTART:20241027T010000
END:STANDARD
END:VTIMEZONE
BEGIN:VEVENT
DTSTART;TZID=Europe/Amsterdam:20240520T203000
DTEND;TZID=Europe/Amsterdam:20240520T220000
DTSTAMP:20260423T100125
CREATED:20240508T085257Z
LAST-MODIFIED:20240508T085257Z
UID:9417-1716237000-1716242400@uitinarnhem.nl
SUMMARY:Kenny B in Musis
DESCRIPTION:\nNa zijn eerste theatertour ‘The Story of Kenny B’ heeft Kenny B de smaak te pakken. De zanger\, bekend van zijn zomerhit ‘Parijs’\, zal in zijn nieuwe show met zijn band optreden en al zijn hits voorbij laten komen. \n\n\nDe muziek van Kenny B geeft zelfs een verregende dag een beetje zon. Voordat hij doorbrak in Nederland scoorde hij de ene na de andere hit in zijn geboorteland Suriname. Uit elke auto en bar in Paramaribo klonk zijn muziek. In 2015 was het ook in Nederland bingo met de zomerhit ‘Parijs’. Na zijn eerste theatertour ‘The Story of Kenny B’ heeft hij de smaak flink te pakken en ook zijn rap uitdijende fanbase krijgt geen genoeg van zijn vrolijkmakende mix van reggae en (neder)pop. Dus tellen we de dagen af voordat Kenny met band op bezoek komt om het succes een vervolg te geven. In zijn nieuwe show ‘Den Poku’ passeren alle hits de revue. \nDit concert heeft alleen vaste zitplaatsen. Kijk hier voor kaarten. \nProgramma \n\nDeuren open 19:30\nAanvang 20:30\nVerwachte eindtijd 22:00\n\n\n  \nKijk voor wat er verder te doen doen is in Arnhem op onze agenda. \n
URL:https://uitinarnhem.nl/agenda/kenny-b-in-musis/
LOCATION:Musis\, Velperbinnensingel 15\, Arnhem\, 6811BP\, Nederland
CATEGORIES:Muziek
ATTACH;FMTTYPE=image/jpeg:https://uitinarnhem.nl/wp-content/uploads/2024/05/Kenny_b_musis_arnhem.jpg
END:VEVENT
END:VCALENDAR