BEGIN:VCALENDAR
VERSION:2.0
PRODID:-//Uit in Arnhem - ECPv5.0.0.2//NONSGML v1.0//EN
CALSCALE:GREGORIAN
METHOD:PUBLISH
X-WR-CALNAME:Uit in Arnhem
X-ORIGINAL-URL:https://uitinarnhem.nl
X-WR-CALDESC:Events for Uit in Arnhem
BEGIN:VTIMEZONE
TZID:Europe/Amsterdam
BEGIN:DAYLIGHT
TZOFFSETFROM:+0100
TZOFFSETTO:+0200
TZNAME:CEST
DTSTART:20240331T010000
END:DAYLIGHT
BEGIN:STANDARD
TZOFFSETFROM:+0200
TZOFFSETTO:+0100
TZNAME:CET
DTSTART:20241027T010000
END:STANDARD
END:VTIMEZONE
BEGIN:VEVENT
DTSTART;TZID=Europe/Amsterdam:20240907T203000
DTEND;TZID=Europe/Amsterdam:20240922T170000
DTSTAMP:20260421T080156
CREATED:20240821T084139Z
LAST-MODIFIED:20240821T084139Z
UID:10473-1725741000-1727024400@uitinarnhem.nl
SUMMARY:Kameropera KEIZER in Musis
DESCRIPTION:\nEen kameropera over leven en dood. Met de Arnhemse schrijver Jibbe Willems bewerkte het Arnhemse Collectief Ludvik de opera Der Kaiser von Atlantis van Viktor Ullmann. \n\n\nDe Joods-Tsjechische componist Viktor Ullmann schreef het werk over de Dood die in opstand komt tegen de Keizer die zijn onderdanen in Theresienstadt de oorlog in jaagt. De Nederlandse ‘hertaling’ belicht de absurditeit van macht en de strijd tussen goed en kwaad in een intieme opera vol satire. Met nieuwe arrangementen\, nieuwe muziek en een Nederlandse vertaling brengt Ludvik deze kameropera tot leven. \n\nIn KEIZER volgen we de leider van een land dat in een uitzichtloze oorlog verkeert. Als de Keizer besluit dat al zijn onderdanen moeten vechten tot er niemand meer over is\, komt de Dood in opstand. Hij weigert nog langer zijn werk te doen\, waardoor er niemand meer sterft. Wat gebeurt er als de balans tussen leven en dood verdwijnt? \nSpeellijst\n7 september – 20.30\n8 september – 15.00\n11 september – 20.30\n14 september – 20.30\n15 september – 15.00\n18 september – 20.30\n21 september – 19.30\n22 september – 15.00 \n  \nTickets zijn te koop via Musis & Stadstheater Arnhem. \n  \nCollectief Ludvik\nCollectief Ludvik is een muziektheatercollectief dat voorstellingen maakt op het grensvlak van muziektheater en opera\, met muziek als de motor van het verhaal. Met herkenbare en persoonlijke thema’s maakt Ludvik opera’s voor de 21e eeuw. \n“Opera is een prachtige en inspirerende vorm van muziektheater die het verdient steeds\nvoorzien te worden van vers bloed door nieuwe generaties.” – Jibbe Willems \n\nOnderdeel van de Airborne herdenking\nKeizer is een samenwerking tussen Musis & Stadstheater Arnhem en Collectief Ludvik. Samen bewerken zij ‘Der Kaiser von Atlantis’\, dat is geschreven terwijl de componist en librettist gevangen zaten in Theresienstadt. Ook Musis heeft een connectie met de Tweede Wereldoorlog. Het gebouw deed destijds dienst als ontspanningsruimte voor Duitse soldaten. Keizer is onderdeel van de Airborne herdenking\, waarin de Slag om Arnhem wordt herdacht.   \n
URL:https://uitinarnhem.nl/agenda/kameropera-keizer-in-musis/
LOCATION:Musis\, Velperbinnensingel 15\, Arnhem\, 6811BP\, Nederland
CATEGORIES:Opera
ATTACH;FMTTYPE=image/jpeg:https://uitinarnhem.nl/wp-content/uploads/2024/08/KEIZER.jpg
END:VEVENT
END:VCALENDAR