BEGIN:VCALENDAR
VERSION:2.0
PRODID:-//Uit in Arnhem - ECPv5.0.0.2//NONSGML v1.0//EN
CALSCALE:GREGORIAN
METHOD:PUBLISH
X-WR-CALNAME:Uit in Arnhem
X-ORIGINAL-URL:https://uitinarnhem.nl
X-WR-CALDESC:Events for Uit in Arnhem
BEGIN:VTIMEZONE
TZID:Europe/Amsterdam
BEGIN:DAYLIGHT
TZOFFSETFROM:+0100
TZOFFSETTO:+0200
TZNAME:CEST
DTSTART:20250330T010000
END:DAYLIGHT
BEGIN:STANDARD
TZOFFSETFROM:+0200
TZOFFSETTO:+0100
TZNAME:CET
DTSTART:20251026T010000
END:STANDARD
END:VTIMEZONE
BEGIN:VEVENT
DTSTART;TZID=Europe/Amsterdam:20250208T150000
DTEND;TZID=Europe/Amsterdam:20250208T160000
DTSTAMP:20260423T110443
CREATED:20250128T113734Z
LAST-MODIFIED:20250128T113734Z
UID:12385-1739026800-1739030400@uitinarnhem.nl
SUMMARY:Jasmijn Derckx in Het Colofon
DESCRIPTION:Oh là là! Valentijnsvoorpret met Jasmijn Derckx in Het Colofon. Zet zaterdagmiddag 8 februari in je agenda\, want bij Het Colofon in Arnhem presenteert Jasmijn Derckx haar nieuwste roman Liefdesmunt (Aspekt\, 2024). Laat je meevoeren naar het romantische Parijs en kom alvast helemaal in de sfeer voor Valentijnsdag! \nParijse charme en romantiek\nJasmijn Derckx\, bekend van haar eerdere boeken Wegens hemelvaart gesloten (Paris Books) en Theodoor (Walburg Pers)\, nodigt je uit voor een middag vol Franse flair. Denk aan de straten van Montmartre\, de geur van Franse wijn\, een lekker Frans kaasje\, en de klanken van prachtige chansons. Kleed je Paris-chic – je alpinopet of dat charmante hoedje mag uit de kast\, want la vie est belle! \nEen exclusieve signeersessie\nNa een inspirerende presentatie van Liefdesmunt zal Jasmijn haar boek signeren. Bemachtig een uniek gesigneerd exemplaar en ontmoet de schrijfster persoonlijk. \nOver Jasmijn Derckx\nMet haar debuut Wegens hemelvaart gesloten (2017) en de historische roman Theodoor (2022) heeft Jasmijn een indrukwekkend oeuvre opgebouwd. In Liefdesmunt neemt ze je mee in een verhaal vol spanning\, sensualiteit en romantiek\, tegen de achtergrond van de stad van de liefde: Parijs. En er komt meer: Jasmijn werkt al aan nieuwe boeken zoals Het vergeten meisje van Barcelona en De Schrijfweek (werktitels). Meer informatie over Jasmijn Derckx en haar boeken vind je op haar website. \nPraktische informatie\nWanneer: Zaterdag 8 februari om 15 uur\nWaar: Het Colofon\, Arnhem\nToegang: Gratis \nÀ bientôt bij Het Colofon! \n
URL:https://uitinarnhem.nl/agenda/jasmijn-derckx-in-het-colofon/
LOCATION:Het Colofon\, Bakkerstraat 56\, Arnhem\, 6811 EJ\, Nederland
CATEGORIES:Informatief & Verrijking,Overig
ATTACH;FMTTYPE=image/jpeg:https://uitinarnhem.nl/wp-content/uploads/2025/01/ic_large_w900h600q100_jasmijnderckx.jpg
END:VEVENT
END:VCALENDAR