BEGIN:VCALENDAR
VERSION:2.0
PRODID:-//Uit in Arnhem - ECPv5.0.0.2//NONSGML v1.0//EN
CALSCALE:GREGORIAN
METHOD:PUBLISH
X-WR-CALNAME:Uit in Arnhem
X-ORIGINAL-URL:https://uitinarnhem.nl
X-WR-CALDESC:Events for Uit in Arnhem
BEGIN:VTIMEZONE
TZID:Europe/Amsterdam
BEGIN:DAYLIGHT
TZOFFSETFROM:+0100
TZOFFSETTO:+0200
TZNAME:CEST
DTSTART:20200329T010000
END:DAYLIGHT
BEGIN:STANDARD
TZOFFSETFROM:+0200
TZOFFSETTO:+0100
TZNAME:CET
DTSTART:20201025T010000
END:STANDARD
END:VTIMEZONE
BEGIN:VEVENT
DTSTART;TZID=Europe/Amsterdam:20200308T104500
DTEND;TZID=Europe/Amsterdam:20200308T230000
DTSTAMP:20260421T022036
CREATED:20200302T105435Z
LAST-MODIFIED:20200302T105621Z
UID:5251-1583664300-1583708400@uitinarnhem.nl
SUMMARY:Internationale vrouwendag in Focus Filmtheater
DESCRIPTION:Sterke vrouwen\, talentvolle vrouwen\, voorbeeldvrouwen\, strijdlustige vrouwen\, vakvrouwen. Op zondag 8 maart viert Focus Filmtheater Arnhem Internationale Vrouwendag met een hele dag alleen maar films door en over vrouwen. (Maar zeker niet alleen maar voor vrouwen!) Een dag vol interessante voorpremières\, veel films\, inleidingen en Q&A’s met bijzondere gasten.  \n  \nFocus vertoont die dag maar liefst 23 verschillende films\, allemaal door of over vrouwen. Van de feelgood The Singing Club van de maker van The Full Monty\, tot het wereldwijde project Woman met portretten van 2000 vrouwen uit 50 verschillende landen\, en v08 Alice Winocour’s Proxima over een vrouwelijke astronaut\, tot het komische kostuumdrama Emma. Bij een aantal films zijn voor- en nagesprekken ingepland\, met gasten als de vrouwelijke astronaut Mindy Howard bij de voorpremière van Proxima\, schrijfster Tamara Bos en actrice Vita Heijmen bij Kapsalon Romy en regisseuse Annette Apon van de docu Leonie\, actrice en spionne. Daarnaast is er om 13:00 uur een kort (gratis) optreden door het Wereldvrouwenkoor in de hal van Focus. \n
URL:https://uitinarnhem.nl/agenda/internationale-vrouwendag-in-focus-filmtheater/
LOCATION:Focus Filmtheater\, Audrey Hepburnplein 1\, Arnhem\, 6811 EH\, Nederland
CATEGORIES:Film
ATTACH;FMTTYPE=image/jpeg:https://uitinarnhem.nl/wp-content/uploads/2020/03/Woman_st_8_jpg_sd-high-scaled-e1583146109280.jpg
END:VEVENT
END:VCALENDAR