BEGIN:VCALENDAR
VERSION:2.0
PRODID:-//Uit in Arnhem - ECPv5.0.0.2//NONSGML v1.0//EN
CALSCALE:GREGORIAN
METHOD:PUBLISH
X-WR-CALNAME:Uit in Arnhem
X-ORIGINAL-URL:https://uitinarnhem.nl
X-WR-CALDESC:Events for Uit in Arnhem
BEGIN:VTIMEZONE
TZID:Europe/Amsterdam
BEGIN:DAYLIGHT
TZOFFSETFROM:+0100
TZOFFSETTO:+0200
TZNAME:CEST
DTSTART:20240331T010000
END:DAYLIGHT
BEGIN:STANDARD
TZOFFSETFROM:+0200
TZOFFSETTO:+0100
TZNAME:CET
DTSTART:20241027T010000
END:STANDARD
END:VTIMEZONE
BEGIN:VEVENT
DTSTART;VALUE=DATE:20240509
DTEND;VALUE=DATE:20240513
DTSTAMP:20260421T131904
CREATED:20240424T125942Z
LAST-MODIFIED:20240424T125942Z
UID:9089-1715212800-1715558399@uitinarnhem.nl
SUMMARY:Hoogte80 Festival
DESCRIPTION:In mei is het weer tijd voor het Hoogte80 festival in Arnhem 2024!\nHet terrein van Hoogte80 is vrij toegankelijk. Per voorstelling koop je een ticket hiervoor kies je één van de 3 tarieven (Betaal-wat-je-kan). Op deze manier houden we het festival samen  betaalbaar. \nEen aantal voorstellingen zijn al in de voorverkoop.  Reserveer hier alvast je tickets voor de voorstelling van Oostpool & Sonnevanck en hier voor de andere voorstellingen. \nOnder het genre familie vind je voorstellingen die geschikt zijn voor alle leeftijden. Een aantal andere voorstellingen hebben een duidelijke leeftijdsindicatie (bijv. 12+). De overige voorstellingen zijn op basis van eigen inschatting. \nKom en geniet van het Hoogte80 festival in Arnhem! \n
URL:https://uitinarnhem.nl/agenda/hoogte80-festival/
LOCATION:Hoogte80\, Zaslaan\, Arnhem\, Nederland
CATEGORIES:Festival
ATTACH;FMTTYPE=image/jpeg:https://uitinarnhem.nl/wp-content/uploads/2024/04/Hoogte80-tent-1400x630-1.jpg
END:VEVENT
END:VCALENDAR