BEGIN:VCALENDAR
VERSION:2.0
PRODID:-//Uit in Arnhem - ECPv5.0.0.2//NONSGML v1.0//EN
CALSCALE:GREGORIAN
METHOD:PUBLISH
X-WR-CALNAME:Uit in Arnhem
X-ORIGINAL-URL:https://uitinarnhem.nl
X-WR-CALDESC:Events for Uit in Arnhem
BEGIN:VTIMEZONE
TZID:Europe/Amsterdam
BEGIN:DAYLIGHT
TZOFFSETFROM:+0100
TZOFFSETTO:+0200
TZNAME:CEST
DTSTART:20260329T010000
END:DAYLIGHT
BEGIN:STANDARD
TZOFFSETFROM:+0200
TZOFFSETTO:+0100
TZNAME:CET
DTSTART:20261025T010000
END:STANDARD
END:VTIMEZONE
BEGIN:VEVENT
DTSTART;TZID=Europe/Amsterdam:20260514T100000
DTEND;TZID=Europe/Amsterdam:20260517T230000
DTSTAMP:20260422T094412
CREATED:20260212T114456Z
LAST-MODIFIED:20260212T114457Z
UID:14076-1778752800-1779058800@uitinarnhem.nl
SUMMARY:Hoogte80 Festival - Arnhem
DESCRIPTION:Hoogte80 Festival: hét vierdaagse festival op de bult in Arnhem.\nTijdens het Hemelvaart weekend van 14 tot en met 17 mei 2026 verrijst op de bult in de Geitenkamp een tijdelijke wereld vol theater\, muziek\, installaties en gesprekken\, met het weidse uitzicht over Arnhem als achtergrond. Wat ooit begon als een kleinschalig buurtfestival is uitgegroeid tot een geliefde traditie voor Arnhemmers en bezoekers van buiten de stad\, zonder de warme\, laagdrempelige sfeer te verliezen. \nTheater vormt de kern van het festival\, met voorstellingen die variëren van ontroerend tot uitbundig\, van poëtisch tot rauw. Muziek vult de avonden met verrassende acts\, van opkomende talenten tot vertrouwde namen die al eerder op Hoogte80 stonden. Voor kinderen en families zijn er toegankelijke voorstellingen en activiteiten\, zodat het festival voor alle leeftijden iets te bieden heeft. \nKom beleven hoe de bult verandert in een levendig festivaldorp! \nPraktisch\n\nToegang terrein: gratis; voorstellingen via betaal-wat-je-kan met drie tarieven.\nBereikbaarheid: buslijnen 7 en 8\, haltes Geitenkamp en Wielewaalstraat/Hoogte 80.\n\nHet festivalterrein is gratis te bezoeken; wie een voorstelling wil zien\, koopt daarvoor kaartjes op het terrein en kiest één van de drie tarieven van het betaal-wat-je-kan-systeem. Zo blijft Hoogte80 toegankelijk voor iedereen\, van bezoekers met een kleine beurs tot mensen die graag extra willen bijdragen. \n
URL:https://uitinarnhem.nl/agenda/hoogte80-festival-arnhem/
LOCATION:Hoogte80\, Zaslaan\, Arnhem\, Nederland
CATEGORIES:Festival
ATTACH;FMTTYPE=image/jpeg:https://uitinarnhem.nl/wp-content/uploads/2026/02/Hoogte80-top.jpg
END:VEVENT
END:VCALENDAR