BEGIN:VCALENDAR
VERSION:2.0
PRODID:-//Uit in Arnhem - ECPv5.0.0.2//NONSGML v1.0//EN
CALSCALE:GREGORIAN
METHOD:PUBLISH
X-WR-CALNAME:Uit in Arnhem
X-ORIGINAL-URL:https://uitinarnhem.nl
X-WR-CALDESC:Events for Uit in Arnhem
BEGIN:VTIMEZONE
TZID:Europe/Amsterdam
BEGIN:DAYLIGHT
TZOFFSETFROM:+0100
TZOFFSETTO:+0200
TZNAME:CEST
DTSTART:20250330T010000
END:DAYLIGHT
BEGIN:STANDARD
TZOFFSETFROM:+0200
TZOFFSETTO:+0100
TZNAME:CET
DTSTART:20251026T010000
END:STANDARD
END:VTIMEZONE
BEGIN:VEVENT
DTSTART;TZID=Europe/Amsterdam:20250119T150000
DTEND;TZID=Europe/Amsterdam:20250119T170000
DTSTAMP:20260421T055618
CREATED:20241222T180845Z
LAST-MODIFIED:20241222T180845Z
UID:12111-1737298800-1737306000@uitinarnhem.nl
SUMMARY:Hippe Gasten In Posttheater
DESCRIPTION:Familievoorstelling: Met Hippe Gasten de wereld rond \nTijdens de bandrepetitie van Hippe Gasten zijn de kinderen getuige van de meest bijzondere repetitie ooit! De luchtballon in hun oefenruimte brengt ze op een magische reis langs grote steden\, donkere oerwouden en hippe stranden over de hele wereld. Ze ontdekken nieuwe muziek\, vreemde gebruiken en mooie culturen. Het lijkt allemaal zo anders en soms ook gek. Maar als je echt goed luistert naar het gevoel in de muziek\, dan herken je vaak meer dan je denkt. De nieuwe theatershow van de energieke band Hippe Gasten is nu te zien! \nHippe Gasten vliegt in een luchtballon op zoek naar verhalen. Verhalen van over de hele wereld. Ze zweven over berglandschappen\, oerwouden en drukke steden en zien overal kinderen met hun eigen verhalen. Tijdens dit muzikale avontuur ontdekken ze nieuwe culturen\, zien ze de mooiste mensen en horen ze nieuwe geluiden. \nHet lijkt allemaal zo verschillend en voelt vaak zo gek en anders\, maar als je écht goed luistert naar het gevoel in de muziek\, dan herken je vaak meer dan je denkt. Blijheid als er iets moois gebeurt\, verdriet als je iemand kwijtraakt\, angst om er niet bij te horen\, plezier als je samen iets deelt of een lekker nummer speelt. \nOveral ter wereld klinkt muziek\, overal kun je luisteren naar de klanken van het gevoel\, in een grote stad\, in een donker oerwoud\, langs een wijde rivier\, in een ijskoude iglo. Muziek is overal. \n
URL:https://uitinarnhem.nl/agenda/hippe-gasten-in-posttheater/
LOCATION:Posttheater\, Rosendaalsestraat 27\, Arnhem\, 6824 CA\, Nederland
CATEGORIES:Kindvriendelijk,Muziek,Theater
ATTACH;FMTTYPE=image/jpeg:https://uitinarnhem.nl/wp-content/uploads/2024/12/468059250_1082732383646170_673195356853342247_n.jpg
END:VEVENT
END:VCALENDAR