BEGIN:VCALENDAR
VERSION:2.0
PRODID:-//Uit in Arnhem - ECPv5.0.0.2//NONSGML v1.0//EN
CALSCALE:GREGORIAN
METHOD:PUBLISH
X-WR-CALNAME:Uit in Arnhem
X-ORIGINAL-URL:https://uitinarnhem.nl
X-WR-CALDESC:Events for Uit in Arnhem
BEGIN:VTIMEZONE
TZID:Europe/Amsterdam
BEGIN:DAYLIGHT
TZOFFSETFROM:+0100
TZOFFSETTO:+0200
TZNAME:CEST
DTSTART:20210328T010000
END:DAYLIGHT
BEGIN:STANDARD
TZOFFSETFROM:+0200
TZOFFSETTO:+0100
TZNAME:CET
DTSTART:20211031T010000
END:STANDARD
END:VTIMEZONE
BEGIN:VEVENT
DTSTART;TZID=Europe/Amsterdam:20210917T190000
DTEND;TZID=Europe/Amsterdam:20210917T223000
DTSTAMP:20260421T080351
CREATED:20210819T200527Z
LAST-MODIFIED:20210820T163448Z
UID:6957-1631905200-1631917800@uitinarnhem.nl
SUMMARY:Herdenkingsavond Slag om Arnhem
DESCRIPTION:Veel bekende artiesten bij Bridge to Liberation\nDI-RECT\, Ellen ten Damme\, Ruben Hein\, Introdans. Het is een kleine greep uit de vele artiesten die op vrijdag 17 september een bijdrage leveren aan de herdenking van de Slag om Arnhem.  Met een bijeenkomst in de Eusebiuskerk begint de herdenking. Vervolgens is er de traditionele kranslegging in de Berenkuil. Of alles\, inclusief de jaarlijkse March over the Bridge\, mét publiek kan doorgaan\, hangt af van de dan geldende maatregelen. \nDe Bridge to Liberation -screen experience- is voor iedereen te volgen. Je ontmoet via het beeldscherm verschillende generaties die hun indrukwekkende verhalen over de impact van de oorlog met ons delen. Ook zullen ze het belang van vrijheid benadrukken. De presentatie is in handen van Dionne Stax. \nLivestreams\nDe kranslegging en de -screen experience- worden uitgezonden door Omroep Gelderland. Ook via livestreams zijn beide onderdelen te volgen\, onder meer op de Facebookpagina’s van de gemeente Arnhem en Bridge to Liberation. Je kunt ook op diverse locaties in de stad samen met anderen naar de uitzending kijken. Meer informatie op de website van de gemeente Arnhem. \nVanwege de coronamaatregelen bestaat de mogelijkheid dat er op het laatste moment nog aanpassingen nodig zijn. \nMeer informatie: www.bridgetoliberation.nl \n
URL:https://uitinarnhem.nl/agenda/herdenkingsavond-slag-om-arnhem/
LOCATION:Binnenstad Arnhem
CATEGORIES:Muziek,Overig
ATTACH;FMTTYPE=image/jpeg:https://uitinarnhem.nl/wp-content/uploads/2021/08/Bridge.2021.jpg
END:VEVENT
END:VCALENDAR