BEGIN:VCALENDAR
VERSION:2.0
PRODID:-//Uit in Arnhem - ECPv5.0.0.2//NONSGML v1.0//EN
CALSCALE:GREGORIAN
METHOD:PUBLISH
X-WR-CALNAME:Uit in Arnhem
X-ORIGINAL-URL:https://uitinarnhem.nl
X-WR-CALDESC:Events for Uit in Arnhem
BEGIN:VTIMEZONE
TZID:Europe/Amsterdam
BEGIN:DAYLIGHT
TZOFFSETFROM:+0100
TZOFFSETTO:+0200
TZNAME:CEST
DTSTART:20210328T010000
END:DAYLIGHT
BEGIN:STANDARD
TZOFFSETFROM:+0200
TZOFFSETTO:+0100
TZNAME:CET
DTSTART:20211031T010000
END:STANDARD
END:VTIMEZONE
BEGIN:VEVENT
DTSTART;TZID=Europe/Amsterdam:20210904T140000
DTEND;TZID=Europe/Amsterdam:20210926T160000
DTSTAMP:20260421T034800
CREATED:20210906T135217Z
LAST-MODIFIED:20210906T135217Z
UID:7097-1630764000-1632672000@uitinarnhem.nl
SUMMARY:Herdenken en beleven in Airborne-maand september
DESCRIPTION:Stilstaan bij de Slag om Arnhem\nHet Airborne Museum in Oosterbeek en Airborne at the Bridge in Arnhem staan in september stil bij de Slag om Arnhem. Ze doen dat samen met partnerorganisaties en de Airborne-gemeenten Arnhem\, Renkum\, Overbetuwe en Ede. Er staan herdenkingen en andere activiteiten op het programma. \nRaak bijvoorbeeld op zondag 19 september onder de indruk van een lezing van ooggetuige Joop Onnekink\, die als kind de Slag om Arnhem heeft meegemaakt. In het Airborne Museum in Oosterbeek vertelt hij zijn aangrijpende\, persoonlijke verhaal. \nKinderspeurtocht \nOp 17\, 18 en 19 september kunnen kinderen gratis de kinderspeurtocht bij Airborne at the Bridge in Arnhem ophalen. Ze kunnen op zoek gaan naar sporen van de oorlog en naar herdenkingsmonumenten. Ook ontdekken ze wat de militairen Jacob\, John en Viktor hebben meegemaakt. Geschikt voor kinderen vanaf 10 jaar. \nVolwassenen kunnen zich op zaterdag 18 september laten meevoeren door een gids in het gebied rondom de John Frostbrug. Leer over de Slag om Arnhem en de strijd bij de brug op de plekken waar deze geschiedenis zich heeft afgespeeld. Vanuit verschillende perspectieven wordt de geschiedenis van deze periode toegelicht. \nDeelnameprijs vanaf 4 euro. \nKijk hier voor alle activiteiten: www.airbornemuseum.nl/september-activiteiten \n  \n  \n
URL:https://uitinarnhem.nl/agenda/herdenken-en-beleven-in-airborne-maand-september/
CATEGORIES:Actief,Kindvriendelijk,Tentoonstelling
ATTACH;FMTTYPE=image/jpeg:https://uitinarnhem.nl/wp-content/uploads/2021/09/Airborne-Museum.jpg
END:VEVENT
END:VCALENDAR