BEGIN:VCALENDAR
VERSION:2.0
PRODID:-//Uit in Arnhem - ECPv5.0.0.2//NONSGML v1.0//EN
CALSCALE:GREGORIAN
METHOD:PUBLISH
X-WR-CALNAME:Uit in Arnhem
X-ORIGINAL-URL:https://uitinarnhem.nl
X-WR-CALDESC:Events for Uit in Arnhem
BEGIN:VTIMEZONE
TZID:Europe/Amsterdam
BEGIN:DAYLIGHT
TZOFFSETFROM:+0100
TZOFFSETTO:+0200
TZNAME:CEST
DTSTART:20250330T010000
END:DAYLIGHT
BEGIN:STANDARD
TZOFFSETFROM:+0200
TZOFFSETTO:+0100
TZNAME:CET
DTSTART:20251026T010000
END:STANDARD
END:VTIMEZONE
BEGIN:VEVENT
DTSTART;TZID=Europe/Amsterdam:20251201T203000
DTEND;TZID=Europe/Amsterdam:20251201T223000
DTSTAMP:20260421T065836
CREATED:20241121T155102Z
LAST-MODIFIED:20241121T155102Z
UID:11677-1764621000-1764628200@uitinarnhem.nl
SUMMARY:HAEVN naar Musis
DESCRIPTION:De internationaal geprezen Nederlandse band HAEVN heeft onlangs hun langverwachte tweede album Wide Awake uitgebracht. Dit album wordt op dit moment in de meest prestigieuze zalen door heel Europa gevierd. Van Shepherd’s Bush Empire in Londen tot Le Trianon in Parijs en het Admiralspalast in Berlijn. In 2025 keert HAEVN terug naar Nederland voor een bijzondere theatertour. Ook naar Arnhem. En jij kan daar bij zijn! \nHAEVN is opgericht door Jorrit Kleijnen en Marijn van der Meer. De band staat bekend om hun bijzondere geluid\, waarin weidse filmische soundscapes en ingetogen liedjes samensmelten. In een wereld waarin ‘luid’ en ‘extravert’ vaak de boventoon voeren\, wil HAEVN juist een ander geluid laten horen: eentje dat uitnodigt tot reflectie en stilte. Bereid je voor op een avond waarin je zult worden ondergedompeld in melancholische magie\, een moment van rust te midden van de drukte van alledag. Want soms is stilstaan de grootste stap vooruit. \n“In tegenstelling tot de energie van optreden in grote Europese clubs\, biedt het spelen in theaters ons de unieke gelegenheid om te verstillen en onze muziek in al haar fragiliteit te laten horen\,” vertelt HAEVN. “Het theater is voor ons de perfecte plek om écht dichtbij het publiek te komen. In verbinding\, iets waarnaar we allen in deze hectische tijd steeds meer naar lijken te verlangen.” \n
URL:https://uitinarnhem.nl/agenda/haevn-naar-musis/
LOCATION:Musis\, Velperbinnensingel 15\, Arnhem\, 6811BP\, Nederland
CATEGORIES:Muziek
ATTACH;FMTTYPE=image/jpeg:https://uitinarnhem.nl/wp-content/uploads/2024/11/haevn_musis_web-scaled.jpg
END:VEVENT
END:VCALENDAR