BEGIN:VCALENDAR
VERSION:2.0
PRODID:-//Uit in Arnhem - ECPv5.0.0.2//NONSGML v1.0//EN
CALSCALE:GREGORIAN
METHOD:PUBLISH
X-WR-CALNAME:Uit in Arnhem
X-ORIGINAL-URL:https://uitinarnhem.nl
X-WR-CALDESC:Events for Uit in Arnhem
BEGIN:VTIMEZONE
TZID:Europe/Amsterdam
BEGIN:DAYLIGHT
TZOFFSETFROM:+0100
TZOFFSETTO:+0200
TZNAME:CEST
DTSTART:20260329T010000
END:DAYLIGHT
BEGIN:STANDARD
TZOFFSETFROM:+0200
TZOFFSETTO:+0100
TZNAME:CET
DTSTART:20261025T010000
END:STANDARD
END:VTIMEZONE
BEGIN:VEVENT
DTSTART;TZID=Europe/Amsterdam:20260116T200000
DTEND;TZID=Europe/Amsterdam:20260116T230000
DTSTAMP:20260421T040500
CREATED:20251229T150222Z
LAST-MODIFIED:20251229T150222Z
UID:13930-1768593600-1768604400@uitinarnhem.nl
SUMMARY:Gypsy Jazz Festival 2026 in Musis
DESCRIPTION:De achtste editie van het Gypsy Jazz Festival belooft een onvergetelijke avond te worden met gitaarvirtuozen Joscho Stephan\, Paulus Schäfer en de band Sonnekai van violist Wattie Rosenberg. \nDe Duitse gitarist Joscho Stephan is wereldwijd bekend als één van de meest virtuoze en vernieuwende spelers binnen de gypsy jazz. Met zijn razendsnelle techniek\, verfijnde toon en aanstekelijke energie weet hij overal ter wereld het publiek te veroveren. \nPaulus Schäfer is één van Nederlands grootste vertegenwoordigers van de Django Reinhardt-traditie. Hij speelde al op de grootste podia ter wereld\, waaronder de legendarische Carnegie Hall in New York. Samen vormen Stephan en Schäfer een onweerstaanbare combinatie van Europese klasse\, vuur en pure speelvreugde. \nDe band Sonnekai\, onder leiding van Wattie Rosenberg\, brengt met warme melodieën\, strakke swing en de kenmerkende Rosenberg-sound een extra dimensie aan deze avond. Wattie\, zoon van Bakro Rosenberg (medeoprichter van het legendarische Romanesj)\, richtte Sonnekai op op jonge leeftijd. Hun gelijknamige debuutalbum werd opgenomen bij Hot Club Records in Noorwegen. De band maakte indruk met optredens\, waaronder de Nederlandse première van Tony Gatlifs film Swing. \nTijdens de inloop\, pauze en afsluiting kun je genieten van Orkest Brandt in de foyer. Dit orkest brengt authentieke zigeunermuziek uit Hongarije\, Roemenië\, Rusland en gypsy jazz. Met hun eigen sound onderscheiden zij zich binnen het genre en zorgen zij voor een bijzondere sfeer in Musis. Het is inmiddels een mooie traditie geworden van het festival dat bezoekers bij binnenkomst\, tijdens de pauze en na afloop worden ondergedompeld in deze kleurrijke klanken. \nProgramma\n20:00: Inloop in de foyer met Orkest Brandt\n20:30 – 21:15: Wattie Rosenberg “Sonnekai”\n21:15 – 21:30: Pauze in de foyer met Orkest Brandt\n21:30 – 22:30: Joscho Stephan & Paulus Schäfer\n22:30 – 23:00: Afsluiting in de foyer met Orkest Brandt \n
URL:https://uitinarnhem.nl/agenda/gypsy-jazz-festival-2026-in-musis/
LOCATION:Musis\, Velperbinnensingel 15\, Arnhem\, 6811BP\, Nederland
CATEGORIES:Festival,Muziek
ATTACH;FMTTYPE=image/jpeg:https://uitinarnhem.nl/wp-content/uploads/2025/12/Gypsy-Jazz-Festival-MUSIS-2026.jpg
END:VEVENT
END:VCALENDAR