BEGIN:VCALENDAR
VERSION:2.0
PRODID:-//Uit in Arnhem - ECPv5.0.0.2//NONSGML v1.0//EN
CALSCALE:GREGORIAN
METHOD:PUBLISH
X-WR-CALNAME:Uit in Arnhem
X-ORIGINAL-URL:https://uitinarnhem.nl
X-WR-CALDESC:Events for Uit in Arnhem
BEGIN:VTIMEZONE
TZID:Europe/Amsterdam
BEGIN:DAYLIGHT
TZOFFSETFROM:+0100
TZOFFSETTO:+0200
TZNAME:CEST
DTSTART:20210328T010000
END:DAYLIGHT
BEGIN:STANDARD
TZOFFSETFROM:+0200
TZOFFSETTO:+0100
TZNAME:CET
DTSTART:20211031T010000
END:STANDARD
END:VTIMEZONE
BEGIN:VEVENT
DTSTART;TZID=Europe/Amsterdam:20210821T193000
DTEND;TZID=Europe/Amsterdam:20210822T180000
DTSTAMP:20260421T064014
CREATED:20210816T105706Z
LAST-MODIFIED:20210816T105840Z
UID:6911-1629574200-1629655200@uitinarnhem.nl
SUMMARY:Grand Opening Club Rembrandt New!
DESCRIPTION:Club Rembrandt pakt uit met comedy\, disco en jazz\nJe waant je in een New Yorkse nightclub\, maar je bent toch echt in de gloednieuwe Arnhemse Club Rembrandt. Op zaterdag 21 augustus is de Grand Opening van de veelzijdige club. \nComedy\nIn de grote zaal is om 20.30 uur de aftrap met ‘Rembrandt New! Comedy’. Aansluitend\, om 22.30 uur\, is het in de foyer swingen geblazen met Rembrandt New! Soul & Disco. Dj Syte neemt zijn beste soul & disco tracks mee. \nDe jazzliefhebbers komen op zondag 22 augustus aan hun trekken bij de eerste Rembrandt New! Jazz. Met de fijnste bands. Aanvang 15.00 uur. \nTickets: https://comedyclubrembrandt.eventgoose.com/ \n
URL:https://uitinarnhem.nl/agenda/grand-opening-club-rembrandt-new/
LOCATION:Rembrandt Theater\, Velperplein 10\, Arnhem
CATEGORIES:Muziek,Theater
ATTACH;FMTTYPE=image/jpeg:https://uitinarnhem.nl/wp-content/uploads/2021/08/Rembrandt.Grandopening.jpg
END:VEVENT
END:VCALENDAR