BEGIN:VCALENDAR
VERSION:2.0
PRODID:-//Uit in Arnhem - ECPv5.0.0.2//NONSGML v1.0//EN
CALSCALE:GREGORIAN
METHOD:PUBLISH
X-WR-CALNAME:Uit in Arnhem
X-ORIGINAL-URL:https://uitinarnhem.nl
X-WR-CALDESC:Events for Uit in Arnhem
BEGIN:VTIMEZONE
TZID:Europe/Amsterdam
BEGIN:DAYLIGHT
TZOFFSETFROM:+0100
TZOFFSETTO:+0200
TZNAME:CEST
DTSTART:20250330T010000
END:DAYLIGHT
BEGIN:STANDARD
TZOFFSETFROM:+0200
TZOFFSETTO:+0100
TZNAME:CET
DTSTART:20251026T010000
END:STANDARD
END:VTIMEZONE
BEGIN:VEVENT
DTSTART;TZID=Europe/Amsterdam:20250202T140000
DTEND;TZID=Europe/Amsterdam:20250202T153000
DTSTAMP:20260423T111945
CREATED:20250119T190032Z
LAST-MODIFIED:20250119T190032Z
UID:12297-1738504800-1738510200@uitinarnhem.nl
SUMMARY:GAIA in Theater de Leeuw
DESCRIPTION:GAIA\n\nOp 2 februari vindt de muzikale première van Steffie van Leths nieuw gecomponeerd werk GAIA plaats dat verhaalt over de Aarde. Van Leth combineert hierin kenmerken uit de Griekse mythologie en toegepaste symboliek. De bezongen onderwerpen en gebeurtenissen betreffen meer dan enkel onze planeet. \n\n\nGAIA wordt uitgevoerd met live zang door solisten en een klein koor. De muziekstijl is filmisch\, verhalend en vol van pathos. Met begeleiding door beeld dat Van Leth in samenwerking met TGAP Atelier creëerde. \n\nMeer informatie: www.steffievanleth.nl\nTicket via: https://theaterdeleeuw.nl/\nTheater de Leeuw\nLeeuwensteinplein 1\n6824 DA Arnhem\n
URL:https://uitinarnhem.nl/agenda/gaia-in-theater-de-leeuw/
LOCATION:Theater De Leeuw\, Leeuwensteinplein 1\, Arnhem\, 6824 DA\, Nederland
CATEGORIES:Muziek,Overig
ATTACH;FMTTYPE=image/jpeg:https://uitinarnhem.nl/wp-content/uploads/2025/01/STEFFIE_VAN_LETH-Gaia-1280x850px.jpg
END:VEVENT
END:VCALENDAR