BEGIN:VCALENDAR
VERSION:2.0
PRODID:-//Uit in Arnhem - ECPv5.0.0.2//NONSGML v1.0//EN
CALSCALE:GREGORIAN
METHOD:PUBLISH
X-WR-CALNAME:Uit in Arnhem
X-ORIGINAL-URL:https://uitinarnhem.nl
X-WR-CALDESC:Events for Uit in Arnhem
BEGIN:VTIMEZONE
TZID:Europe/Amsterdam
BEGIN:DAYLIGHT
TZOFFSETFROM:+0100
TZOFFSETTO:+0200
TZNAME:CEST
DTSTART:20240331T010000
END:DAYLIGHT
BEGIN:STANDARD
TZOFFSETFROM:+0200
TZOFFSETTO:+0100
TZNAME:CET
DTSTART:20241027T010000
END:STANDARD
END:VTIMEZONE
BEGIN:VEVENT
DTSTART;TZID=Europe/Amsterdam:20241220T200000
DTEND;TZID=Europe/Amsterdam:20241220T220000
DTSTAMP:20260421T143312
CREATED:20241204T145904Z
LAST-MODIFIED:20241204T145904Z
UID:11899-1734724800-1734732000@uitinarnhem.nl
SUMMARY:Franse Chansons in ABC Libertas
DESCRIPTION:ABC Libertas presenteert de Folk Sessions: een maandelijks concert met traditionele muziek uit een ander land. \nDeze maand staan de Franse chansons centraal\, gezongen door Rosanne Alderliefste. Rosanne is een veelzijdige Amsterdamse artiest die haar publiek meesleept in een unieke mix van intieme kleinkunstliedjes en krachtige ballads. Met haar warme stemgeluid\, pakkende melodieën en expressieve optredens creëert Rosanne een wereld waarin eerlijke en herkenbare teksten centraal staan. \nAls zangeres in de band Gerard Alderliefste & Friends betoverde Rosanne theaters en poppodia in heel Nederland met haar liefde voor het Franse chanson. Het publiek vroeg om haar eigen Nederlandstalige en Franstalige repertoire. Dit leidde tot de release van haar singles ‘Speelruimte’ (2021)\, ‘Kijk mij gaan’ (2024) en de Franstalige versie ‘Regarde-moi’ (2024). \nMomenteel werkt Rosanne aan een uniek Nederlands- en Franstalig album\, waarin ze persoonlijke verhalen verweeft met maatschappelijke thema’s. Tegelijkertijd ontwikkelt ze\, samen met Erris van Ginkel\, haar eigen theaterprogramma ‘Regarde-moi\, Kijk mij gaan’. Begeleid door toetsenist en accordeonist Rob Stoop\, of solo met piano of gitaar\, brengt Rosanne haar eigen werk en herinterpreteert ze nummers van haar inspiratiebronnen\, waaronder Edith Piaf\, Stromae en Wende Snijders. \nMet een stijl die wordt vergeleken met de directheid van Eefje de Visser\, de dansbaarheid van Stromae en de expressieve veelzijdigheid van Wende Snijders en Ellen ten Damme\, weet Rosanne haar publiek keer op keer te verrassen. \nLive muziek bij ABC Libertas is op pay-what-you-can basis. Reserveren is niet nodig. Kom op tijd voor een goed plekje! \n
URL:https://uitinarnhem.nl/agenda/franse-chansons-in-abc-libertas/
LOCATION:ABC Libertas\, Klarendalseweg 477\, Arnhem
CATEGORIES:Muziek
ATTACH;FMTTYPE=image/jpeg:https://uitinarnhem.nl/wp-content/uploads/2024/12/2233b66_w1272_rosannefotozang.jpg
END:VEVENT
END:VCALENDAR