BEGIN:VCALENDAR
VERSION:2.0
PRODID:-//Uit in Arnhem - ECPv5.0.0.2//NONSGML v1.0//EN
CALSCALE:GREGORIAN
METHOD:PUBLISH
X-WR-CALNAME:Uit in Arnhem
X-ORIGINAL-URL:https://uitinarnhem.nl
X-WR-CALDESC:Events for Uit in Arnhem
BEGIN:VTIMEZONE
TZID:Europe/Amsterdam
BEGIN:DAYLIGHT
TZOFFSETFROM:+0100
TZOFFSETTO:+0200
TZNAME:CEST
DTSTART:20210328T010000
END:DAYLIGHT
BEGIN:STANDARD
TZOFFSETFROM:+0200
TZOFFSETTO:+0100
TZNAME:CET
DTSTART:20211031T010000
END:STANDARD
END:VTIMEZONE
BEGIN:VEVENT
DTSTART;TZID=Europe/Amsterdam:20210614T090000
DTEND;TZID=Europe/Amsterdam:20210831T170000
DTSTAMP:20260421T001232
CREATED:20210809T100253Z
LAST-MODIFIED:20210809T102135Z
UID:6813-1623661200-1630429200@uitinarnhem.nl
SUMMARY:Foto-expositie in Molenplaats Sonsbeek
DESCRIPTION:Wonen in de stad en tóch in de natuur \nWoonplekken in Arnhem om jaloers op te worden. De Arnhemse fotograaf Milan Schellingerhout portretteerde Arnhemmers in hun huizen op heel bijzondere locaties: in de stad en toch midden in de natuur. Mooi voorbeeld is Annie\, die al heel lang geniet in haar huis achter de Witte Watermolen in Sonsbeek. Ook haar stadgenoot Martin woont in een van de mooie Arnhemse parken: Angerenstein. Zijn woonstek is de voormalige forellenkwekerij. Schellingerhout exposeert zijn foto’s in Molenplaats Sonsbeek onder de titel ‘Mijn huis in het park’. \n  \n
URL:https://uitinarnhem.nl/agenda/foto-expositie-in-molenplaats-sonsbeek/
LOCATION:Molenplaats Sonsbeek\, Zijpendaalseweg 24a\, Arnhem\, Gelderland\, 6814 CL\, Nederland
CATEGORIES:Tentoonstelling
ATTACH;FMTTYPE=image/jpeg:https://uitinarnhem.nl/wp-content/uploads/2021/08/huisinhetpark.jpeg
END:VEVENT
END:VCALENDAR