BEGIN:VCALENDAR
VERSION:2.0
PRODID:-//Uit in Arnhem - ECPv5.0.0.2//NONSGML v1.0//EN
CALSCALE:GREGORIAN
METHOD:PUBLISH
X-WR-CALNAME:Uit in Arnhem
X-ORIGINAL-URL:https://uitinarnhem.nl
X-WR-CALDESC:Events for Uit in Arnhem
BEGIN:VTIMEZONE
TZID:Europe/Amsterdam
BEGIN:DAYLIGHT
TZOFFSETFROM:+0100
TZOFFSETTO:+0200
TZNAME:CEST
DTSTART:20200329T010000
END:DAYLIGHT
BEGIN:STANDARD
TZOFFSETFROM:+0200
TZOFFSETTO:+0100
TZNAME:CET
DTSTART:20201025T010000
END:STANDARD
END:VTIMEZONE
BEGIN:VEVENT
DTSTART;TZID=Europe/Amsterdam:20200701T200000
DTEND;TZID=Europe/Amsterdam:20200701T220000
DTSTAMP:20260421T032338
CREATED:20200701T083854Z
LAST-MODIFIED:20200701T083854Z
UID:5519-1593633600-1593640800@uitinarnhem.nl
SUMMARY:Focus Filmtheater - Klassiekerreeks - Zomer 2020
DESCRIPTION:Al jaren een begrip in Focus Filmtheater: de Déjà vu klassiekerreeks. Een prachtig programma vol hoogtepunten uit de filmgeschiedenis.\nMet in de zomer van 2020 zeven films\, die digitaal gerestaureerd en op hoge kwaliteit in Focus te zien zijn. Naast een paar heerlijke\, losse klassiekers vertoont Focus Filmtheater\, in een reeks\, drie films van de Franse maestro Claude Lelouch en twee van de Belgisch-Franse avant-garde filmmaker en kunstenaar Chantal Akerman. \nAlle films in deze reeks zijn Nederlands ondertiteld. Bij een aantal voorstellingen wordt een inleiding gegeven. Check de website van Focus Filmtheater voor de klassiekers en speeldata.  \n
URL:https://uitinarnhem.nl/agenda/focus-filmtheater-klassiekerreeks-zomer-2020/
LOCATION:Focus Filmtheater\, Audrey Hepburnplein 1\, Arnhem\, 6811 EH\, Nederland
CATEGORIES:Film
ATTACH;FMTTYPE=image/jpeg:https://uitinarnhem.nl/wp-content/uploads/2020/07/The-Shawshank-Redemption-25th-Anniversary-_st_11_jpg_sd-low_©-2020-Warner-Bros-Pictures-All-rights-reserved.jpg
END:VEVENT
END:VCALENDAR