BEGIN:VCALENDAR
VERSION:2.0
PRODID:-//Uit in Arnhem - ECPv5.0.0.2//NONSGML v1.0//EN
CALSCALE:GREGORIAN
METHOD:PUBLISH
X-WR-CALNAME:Uit in Arnhem
X-ORIGINAL-URL:https://uitinarnhem.nl
X-WR-CALDESC:Events for Uit in Arnhem
BEGIN:VTIMEZONE
TZID:Europe/Amsterdam
BEGIN:DAYLIGHT
TZOFFSETFROM:+0100
TZOFFSETTO:+0200
TZNAME:CEST
DTSTART:20200329T010000
END:DAYLIGHT
BEGIN:STANDARD
TZOFFSETFROM:+0200
TZOFFSETTO:+0100
TZNAME:CET
DTSTART:20201025T010000
END:STANDARD
END:VTIMEZONE
BEGIN:VEVENT
DTSTART;TZID=Europe/Amsterdam:20200726T080000
DTEND;TZID=Europe/Amsterdam:20200913T230000
DTSTAMP:20260421T033631
CREATED:20200726T184308Z
LAST-MODIFIED:20200807T123009Z
UID:5735-1595750400-1600038000@uitinarnhem.nl
SUMMARY:Focus Arnhem openluchtfilms
DESCRIPTION:Focus op het dak\nDe hele zomer elke dag openluchtfilms op het dak van Focus Filmtheater Arnhem. \nVanaf 23 juli t/m 13 september kun je bij Focus weer het dak op! Er worden in die periode films in de unieke dakzaal in de openlucht vertoond. Voor alle thuisblijvers\, teleurgestelde festivalbezoekers en liefhebbers van het buitenleven\, heeft Focus deze zomer een openluchtfilmprogramma gemaakt vol muziek en virtuele reizen. Lekker ontspannen in eigen land!  \n  \nProgramma Buitenfilms \nVan 23 juli t/m 13 september vertonen we vrijwel elke dag openluchtfilms rond de thema’s: \n  \nMUZIEKZOMER. Ter compensatie van alle gemiste concerten en festivals willen we je met een van deze 6 muziekfilms toch een mooie muziekzomer meegeven. \n  \nRONDJE OM DE WERELD. We blijven meer dan ooit in ons eigen landje deze zomer. Met deze selectie van 13 ‘rondje om de wereld’-films waan je je toch even weg van huis. \n  \nJE KAN HET DAK OP! We nodigen je uit zelf een film of thema voor een openluchtvoorstelling aan te dragen en zo je eigen filmfeestje op ons dak te houden! Wensen aanmelden kan t/m 30 juli via: programma@focusarnhem.nl. \nSamenwerking Openluchtmuseum kinderfilms\nNaast ons eigen Focus Junior zomer kinderfilmprogramma\, werken we dit jaar voor het eerst samen met het Openluchtmuseum Arnhem. Tijdens het ‘Zomeravonden’ programma in het museum van\n1 t/m 16 augustus\, worden er 2 ‘Focus op locatie’ kinderfilms op de vroege avond vertoond.   \n  \nMeer informatie over de programma’s vind je op: focusarnhem.nl/focusophetdakzomer2020. Uiteraard zijn de programma’s Focus 1.5 proof. Fijne zomer! \n
URL:https://uitinarnhem.nl/agenda/focus-arnhem-openluchtfilms/
LOCATION:Focus Filmtheater\, Audrey Hepburnplein 1\, Arnhem\, 6811 EH\, Nederland
CATEGORIES:Film,Kindvriendelijk,Muziek
ATTACH;FMTTYPE=image/jpeg:https://uitinarnhem.nl/wp-content/uploads/2020/07/The-Breakfast-Club_focus-Arnhem.jpg
END:VEVENT
END:VCALENDAR