BEGIN:VCALENDAR
VERSION:2.0
PRODID:-//Uit in Arnhem - ECPv5.0.0.2//NONSGML v1.0//EN
CALSCALE:GREGORIAN
METHOD:PUBLISH
X-WR-CALNAME:Uit in Arnhem
X-ORIGINAL-URL:https://uitinarnhem.nl
X-WR-CALDESC:Events for Uit in Arnhem
BEGIN:VTIMEZONE
TZID:Europe/Amsterdam
BEGIN:DAYLIGHT
TZOFFSETFROM:+0100
TZOFFSETTO:+0200
TZNAME:CEST
DTSTART:20210328T010000
END:DAYLIGHT
BEGIN:STANDARD
TZOFFSETFROM:+0200
TZOFFSETTO:+0100
TZNAME:CET
DTSTART:20211031T010000
END:STANDARD
END:VTIMEZONE
BEGIN:VEVENT
DTSTART;TZID=Europe/Amsterdam:20210722T200000
DTEND;TZID=Europe/Amsterdam:20210905T000000
DTSTAMP:20260421T045505
CREATED:20210807T080010Z
LAST-MODIFIED:20210824T074839Z
UID:6785-1626984000-1630800000@uitinarnhem.nl
SUMMARY:Openluchtcinema bij Focus Filmtheater Arnhem
DESCRIPTION:Klassiekers\, muziekfilms\, veelbelovende voorpremières en films die je liever niet in je eentje kijkt. Ze zijn deze zomer allemaal te zien op het dak van Focus Filmtheater. Lekker onder de blote hemel naar de films van je keuze kijken. De aangekondigde voorstellingen gaan altijd door. Is het een beetje fris\, neem dan een dekentje mee. Bij slecht weer wordt de film binnen vertoond. De dakzaal biedt plaats aan 25 personen\, dus wees er snel bij. Koop je kaartjes online. \nTickets: www.focusarnhem.nl/openluchtcinema \n  \n
URL:https://uitinarnhem.nl/agenda/films-op-het-dak-bij-focus/
LOCATION:Focus Filmtheater\, Audrey Hepburnplein 1\, Arnhem\, 6811 EH\, Nederland
CATEGORIES:Film
ATTACH;FMTTYPE=image/jpeg:https://uitinarnhem.nl/wp-content/uploads/2021/08/Dakzaal-6-filmdoek-2-1.jpg
END:VEVENT
END:VCALENDAR