BEGIN:VCALENDAR
VERSION:2.0
PRODID:-//Uit in Arnhem - ECPv5.0.0.2//NONSGML v1.0//EN
CALSCALE:GREGORIAN
METHOD:PUBLISH
X-WR-CALNAME:Uit in Arnhem
X-ORIGINAL-URL:https://uitinarnhem.nl
X-WR-CALDESC:Events for Uit in Arnhem
BEGIN:VTIMEZONE
TZID:Europe/Amsterdam
BEGIN:DAYLIGHT
TZOFFSETFROM:+0100
TZOFFSETTO:+0200
TZNAME:CEST
DTSTART:20240331T010000
END:DAYLIGHT
BEGIN:STANDARD
TZOFFSETFROM:+0200
TZOFFSETTO:+0100
TZNAME:CET
DTSTART:20241027T010000
END:STANDARD
END:VTIMEZONE
BEGIN:VEVENT
DTSTART;TZID=Europe/Amsterdam:20241107T193000
DTEND;TZID=Europe/Amsterdam:20241107T220000
DTSTAMP:20260424T010756
CREATED:20241027T153356Z
LAST-MODIFIED:20241027T153356Z
UID:11319-1731007800-1731016800@uitinarnhem.nl
SUMMARY:Filmerds Filmquiz bij Pathé Arnhem
DESCRIPTION:Heb jij zin om je filmkennis te testen tijdens een avond vol leuke rondes\, bijzondere vragen en aparte spelletjes? Doe dan mee aan de eerste Filmerds Filmquiz in Pathé Arnhem en stel jouw filmkennis op de proef! \nDe mannen van de podcast Filmerds hebben een heel scala aan uiteenlopende vragen voor je klaar staan in verschillende rondes die ze op creatieve wijze de zaal in zullen slingeren. Herken jij bijvoorbeeld een filmscore aan de eerste noot? Weet jij nog wie Psycho regisseerde? Of in welk jaar ook alweer de eerste Die Hard het levenslicht zag? Kom dan op zeven november naar Pathé Arnhem voor een avond vol gezelligheid\, veel “oh ja!”-momentjes en wellicht een heel dik prijzenpakket! Zorg dus dat je mobiel is opgeladen om mee te kunnen doen en stel jouw filmkennis op de proef! \nPraktisch\nDe kosten bedragen €9\,50 inclusief popcorn. Tickets zijn te koop via https://www.pathe.nl/film/27541/filmerds-filmquiz-2024 \n
URL:https://uitinarnhem.nl/agenda/filmerds-filmquiz-bij-pathe-arnhem/
LOCATION:Pathé Arnhem\, Oude Stationsstraat 20\, Arnhem\, 6811 KE\, Nederland
CATEGORIES:Actief,Film
ATTACH;FMTTYPE=image/jpeg:https://uitinarnhem.nl/wp-content/uploads/2024/10/Filmerds-filmquiz-post-3.jpg
END:VEVENT
END:VCALENDAR