BEGIN:VCALENDAR
VERSION:2.0
PRODID:-//Uit in Arnhem - ECPv5.0.0.2//NONSGML v1.0//EN
CALSCALE:GREGORIAN
METHOD:PUBLISH
X-WR-CALNAME:Uit in Arnhem
X-ORIGINAL-URL:https://uitinarnhem.nl
X-WR-CALDESC:Events for Uit in Arnhem
BEGIN:VTIMEZONE
TZID:Europe/Amsterdam
BEGIN:DAYLIGHT
TZOFFSETFROM:+0100
TZOFFSETTO:+0200
TZNAME:CEST
DTSTART:20250330T010000
END:DAYLIGHT
BEGIN:STANDARD
TZOFFSETFROM:+0200
TZOFFSETTO:+0100
TZNAME:CET
DTSTART:20251026T010000
END:STANDARD
END:VTIMEZONE
BEGIN:VEVENT
DTSTART;TZID=Europe/Amsterdam:20250307T200000
DTEND;TZID=Europe/Amsterdam:20250307T220000
DTSTAMP:20260421T061311
CREATED:20250127T144701Z
LAST-MODIFIED:20250127T144701Z
UID:12371-1741377600-1741384800@uitinarnhem.nl
SUMMARY:Fado in Huis van Puck
DESCRIPTION:Fado – muziek voor hart en ziel  \n‘Fado’ vertelt in woord en klank over mens zijn\, verlangen\, lust\, rouw\, waanzin\, kwetsbaarheid\, vreugde en dankbaarheid. Fado raakt je in hart en ziel. Fado betekent letterlijk ‘Lot’ . Wordt ons leven bepaald door het lot? Door wat ons overkomt\, door wat al in de moederschoot\, of door God aan ons is meegegeven? Door waar onze wieg staat? Of geven we ons leven vorm vanuit onze eigen vrije wil? In deze bijzondere bezetting belichaamt de accordeon de adem\, en de snaren van de gitaar de stembanden van de zangeres. De begeleiders ademen als het ware mee met de zang. \nEen persoonlijk verhaal\, echtheid\, verbinding en verwondering. Dat is wat theaterbezoekers met dit concert ontvangen. Accordeonist Bert van den Brink en fadogitarist Hans van Gelderen staan garant voor een beeldschone begeleiding van vocalist Madelon Ravenhorst. \nLive-bezetting:\nAccordeon: Bert van den Brink\nGitaar: Hans van Gelderen\nVocalen: Madelon Ravenhorst \n
URL:https://uitinarnhem.nl/agenda/fado-in-huis-van-puck/
LOCATION:Huis van Puck\, Kazerneplein 6-2\, Arnhem\, Nederland\, 6822ET\, Nederland
CATEGORIES:Muziek
ATTACH;FMTTYPE=image/png:https://uitinarnhem.nl/wp-content/uploads/2025/01/image-1536x863-1.png
END:VEVENT
END:VCALENDAR