BEGIN:VCALENDAR
VERSION:2.0
PRODID:-//Uit in Arnhem - ECPv5.0.0.2//NONSGML v1.0//EN
CALSCALE:GREGORIAN
METHOD:PUBLISH
X-WR-CALNAME:Uit in Arnhem
X-ORIGINAL-URL:https://uitinarnhem.nl
X-WR-CALDESC:Events for Uit in Arnhem
BEGIN:VTIMEZONE
TZID:Europe/Amsterdam
BEGIN:DAYLIGHT
TZOFFSETFROM:+0100
TZOFFSETTO:+0200
TZNAME:CEST
DTSTART:20240331T010000
END:DAYLIGHT
BEGIN:STANDARD
TZOFFSETFROM:+0200
TZOFFSETTO:+0100
TZNAME:CET
DTSTART:20241027T010000
END:STANDARD
END:VTIMEZONE
BEGIN:VEVENT
DTSTART;TZID=Europe/Amsterdam:20241029T090000
DTEND;TZID=Europe/Amsterdam:20241208T170000
DTSTAMP:20260421T053632
CREATED:20241112T103722Z
LAST-MODIFIED:20241112T103722Z
UID:11539-1730192400-1733677200@uitinarnhem.nl
SUMMARY:Expositie Onze koloniale werkelijkheden in Museum Arnhem
DESCRIPTION:Foto: Milan Schellingerhout\nIn de expositie Onze koloniale werkelijkheden zijn negen Arnhemse nakomelingen van tot slaaf gemaakten en contractarbeiders door fotograaf Milan Schellingerhout gefotografeerd op historische plekken in Arnhem. Plekken die een directe link hebben met het koloniale verleden. De verhalen van deze geportretteerden zijn opgetekend door onderzoeker en schrijver Sahar Noor. De tentoonstelling is van 29 oktober tot en met 8 december 2024 gratis te bezoeken in De Koepel van Museum Arnhem. \nVerschillende locaties in Arnhem\, zoals Park Sonsbeek\, Kasteel Zypendaal\, Landgoed Mariëndaal en de Bakkerstraat\, zijn (mede)gebouwd met inkomsten uit het slavernijverleden. Bestuurders en andere Arnhemmers waren door de eeuwen heen – direct of indirect – betrokken bij het koloniale slavernijbeleid en hebben daarvan geprofiteerd. Deze erfenis is bijvoorbeeld terug te vinden in Arnhemse stadsparken\, landgoederen\, straatnamen\, standbeelden en familiewapens\, maar ook in de bewoners. \nIn de expositie Onze koloniale werkelijkheden ontmoet je negen van deze Arnhemmers\, door Milan Schellingerhout gefotografeerd. In hun verhalen\, opgetekend door Sahar Noor\, staat centraal hoe zij betekenis geven aan het koloniale verleden\, hoe het nog altijd leeft in het heden en zal blijven doorleven in de toekomst. Milan Schellingerhout en Sahar Noor nodigen bezoekers hiermee uit te reflecteren op onze koloniale erfenissen. \nOver Milan Schellingerhout en Sahar Noor\nDe Arnhemse Milan Schellingerhout is een documentaire fotograaf die zich richt op sociale thema’s en maatschappelijke kwesties\, lokaal en internationaal. Via zijn fotografie wil hij een stem en podium aan individuen of groepen geven. Door hun verhalen te vertellen\, wil hij inzicht\, bewustwording en begrip bevorderen. Daarnaast werkt hij als fotojournalist en freelance fotograaf. \nSahar Noor is gepromoveerd onderzoeker\, schrijver en columnist. Ze heeft wetenschappelijke kennis over diverse thema’s waaronder diversiteit\, racisme\, discriminatie en inclusie. Daarnaast is ze actief als journalist en heeft ze de documentaire Kan je het zien?\, over alledaags racisme\, gemaakt. \nVoor meer informatie kijk op: https://www.museumarnhem.nl/nl/tentoonstellingen/onze-koloniale-werkelijkheden \n
URL:https://uitinarnhem.nl/agenda/expositie-onze-koloniale-werkelijkheden-in-museum-arnhem/
LOCATION:Museum Arnhem\, Utrechtseweg 87\, Arnhem\, Gelderland\, 6812 AA\, Nederland
CATEGORIES:Informatief & Verrijking,Tentoonstelling
ATTACH;FMTTYPE=image/jpeg:https://uitinarnhem.nl/wp-content/uploads/2024/11/Milan-Schellingerhout-Urmie-Leming.-1.jpg
END:VEVENT
END:VCALENDAR