BEGIN:VCALENDAR
VERSION:2.0
PRODID:-//Uit in Arnhem - ECPv5.0.0.2//NONSGML v1.0//EN
CALSCALE:GREGORIAN
METHOD:PUBLISH
X-WR-CALNAME:Uit in Arnhem
X-ORIGINAL-URL:https://uitinarnhem.nl
X-WR-CALDESC:Events for Uit in Arnhem
BEGIN:VTIMEZONE
TZID:Europe/Amsterdam
BEGIN:DAYLIGHT
TZOFFSETFROM:+0100
TZOFFSETTO:+0200
TZNAME:CEST
DTSTART:20240331T010000
END:DAYLIGHT
BEGIN:STANDARD
TZOFFSETFROM:+0200
TZOFFSETTO:+0100
TZNAME:CET
DTSTART:20241027T010000
END:STANDARD
END:VTIMEZONE
BEGIN:VEVENT
DTSTART;TZID=Europe/Amsterdam:20241016T080000
DTEND;TZID=Europe/Amsterdam:20241019T170000
DTSTAMP:20260421T073948
CREATED:20241016T094115Z
LAST-MODIFIED:20241016T094115Z
UID:11149-1729065600-1729357200@uitinarnhem.nl
SUMMARY:Expositie 'Het is maar hoe je het bekijkt' in de Loopvisserij
DESCRIPTION:Een expositie vol dieren is tijdens de Kinderboekenweek neergestreken in de Loopvisserij. Van potvis tot plofkip\, illustrator Yoko Heiligers slaat geen dier over. De expositie Meesterbrein #4 ‘Het is maar hoe je het bekijkt’ laat het unieke werk zien van deze illustrator\, die met haar boek Mensendieren (verschenen bij de Arnhemse uitgeverij Loopvis) onlangs een Zilveren Penseel won. \nEen groot deel van de etalage van de Loopvisserij in de Coehoornstraat is omgetoverd tot een grote kijkdoos. Jong en oud kan ongegeneerd naar binnen komen gluren. Alhoewel ‘s avonds het trapje niet buiten staat is het dan wel extra sfeervol met de verlichte gluurgaten. De expositie gaat binnen verder. Dit gedeelte is te bezichtigen tijdens openingstijden van de Loopvisserij\, dinsdag t/m zaterdag van 10 tot 17 uur. \nYoko Heiligers (1983) maakt illustraties voor onder andere Het Parool\, NS en diverse uitgeverijen. Ze geeft met haar illustraties een beeldende twist aan allerhande onderwerpen\, van groen beleggen tot aan kerstverhalen. Dieren hebben vaak een belangrijke rol in haar illustraties\, niet zo gek dus dat van haar hand het boek Mensendieren\, over de relatie tussen mensen en dieren verscheen bij Uitgeverij Loopvis. \nIn de Loopvisserij kun je haar dieren spotten en Heiligers maakte speciaal voor deze gelegenheid verrassende inkijkjes in haar maakproces. Van inspiratiebron tot eindresultaat en van alles daartussenin; ga op safari langs de verhalen achter de illustraties en krijg zo een uniek inkijkje in Yoko’s ideeënwereld. De expositie duurt tot en met zaterdag 19 oktober en is georganiseerd door uitgeverij Loopvis in samenwerking met de Illustratie Ambassade. Kom dus snel nog even kijken! \n
URL:https://uitinarnhem.nl/agenda/expositie-het-is-maar-hoe-je-het-bekijkt-in-de-loopvisserij/
LOCATION:Loopvisserij\, Coehoornstraat 10\, Arnhem\, 6811 LA\, Nederland
CATEGORIES:Kindvriendelijk,Tentoonstelling
ATTACH;FMTTYPE=image/jpeg:https://uitinarnhem.nl/wp-content/uploads/2024/10/24_10-David-Jagersma-Loopvis_EXPO-YOKO-026.jpg
END:VEVENT
END:VCALENDAR