BEGIN:VCALENDAR
VERSION:2.0
PRODID:-//Uit in Arnhem - ECPv5.0.0.2//NONSGML v1.0//EN
CALSCALE:GREGORIAN
METHOD:PUBLISH
X-WR-CALNAME:Uit in Arnhem
X-ORIGINAL-URL:https://uitinarnhem.nl
X-WR-CALDESC:Events for Uit in Arnhem
BEGIN:VTIMEZONE
TZID:Europe/Amsterdam
BEGIN:DAYLIGHT
TZOFFSETFROM:+0100
TZOFFSETTO:+0200
TZNAME:CEST
DTSTART:20250330T010000
END:DAYLIGHT
BEGIN:STANDARD
TZOFFSETFROM:+0200
TZOFFSETTO:+0100
TZNAME:CET
DTSTART:20251026T010000
END:STANDARD
END:VTIMEZONE
BEGIN:VEVENT
DTSTART;TZID=Europe/Amsterdam:20250517T203000
DTEND;TZID=Europe/Amsterdam:20250518T020000
DTSTAMP:20260421T053624
CREATED:20250420T174109Z
LAST-MODIFIED:20250420T174109Z
UID:13153-1747513800-1747533600@uitinarnhem.nl
SUMMARY:Europapaparty in Luxor Live
DESCRIPTION:Paradijsvogels verzamelen! Na de waanzinnige eerste editie van vorig jaar is Het grote Songfestival feest terug in Luxor Live. C’est La Vier samen met mede-enthousiastelingen de finale van het Songfestival live op een mega-scherm met dik geluid en vette lichtshows! \nEuropapaparty\nVier\, kijk en beleef Eurovision met ons in jouw meest uitzinnige Songfestival-outfit en blèr uit volle borst mee op de dikste Songfestival-hits! Dit is een douze points-waardig spektakel. De beste manier om de finale te beleven\, zonder onderbrekingen en met het beste licht\, beeld en geluid van de stad. Een zaal vol uitzinnige liefhebbers\, live presentatie en een dj die voor en na de show voor muzikale omlijsting zorgt! \nDe lijnen zijn geopend! Voor snelle bellers is er een beperkt aantal early birds beschikbaar. Dus verzamel jouw Eurovisie-vrienden en bestel nu jouw tickets. \nLet op: voor dit evenement zijn alleen staanplaatsen.\nMinderjarigen zijn welkom onder begeleiding van een volwassene. \n
URL:https://uitinarnhem.nl/agenda/europapaparty-in-luxor-live/
LOCATION:Luxor Live\, Willemsplein 10\, Arnhem\, 6811KB\, Nederland
CATEGORIES:Muziek,Overig
ATTACH;FMTTYPE=image/jpeg:https://uitinarnhem.nl/wp-content/uploads/2025/04/EUROPAPAPARTY-WEBSITE-1920x630-1.jpg
END:VEVENT
END:VCALENDAR