BEGIN:VCALENDAR
VERSION:2.0
PRODID:-//Uit in Arnhem - ECPv5.0.0.2//NONSGML v1.0//EN
CALSCALE:GREGORIAN
METHOD:PUBLISH
X-WR-CALNAME:Uit in Arnhem
X-ORIGINAL-URL:https://uitinarnhem.nl
X-WR-CALDESC:Events for Uit in Arnhem
BEGIN:VTIMEZONE
TZID:Europe/Amsterdam
BEGIN:DAYLIGHT
TZOFFSETFROM:+0100
TZOFFSETTO:+0200
TZNAME:CEST
DTSTART:20250330T010000
END:DAYLIGHT
BEGIN:STANDARD
TZOFFSETFROM:+0200
TZOFFSETTO:+0100
TZNAME:CET
DTSTART:20251026T010000
END:STANDARD
END:VTIMEZONE
BEGIN:VEVENT
DTSTART;TZID=Europe/Amsterdam:20250315T193000
DTEND;TZID=Europe/Amsterdam:20250316T003000
DTSTAMP:20260423T123953
CREATED:20250208T113551Z
LAST-MODIFIED:20250213T112654Z
UID:12405-1742067000-1742085000@uitinarnhem.nl
SUMMARY:Early Beats in Stadsvilla Sonsbeek
DESCRIPTION:KEN JIJ EARLY BEATS AL? DIT VROEG CLUBBEN CONCEPT IS ER SPECIAAL VOOR JOU ALS 30+ER ÉN VOOR IEDEREEN DIE ZICH 30 VOELT! NA DE LAATSTE UITVERKOCHTE EDITIE IN STADSVILLA SONSBEEK ZIJN ZIJ 15 MAART TERUG! \nVroeg clubben\nBij Early Beats kun je van 19.30-00.30 dansen alsof het nacht is. Vroeg clubben dus op goede house music met herkenbare tunes. En dat niet alleen\, naar Early Beats ga je voor de beleving. Met verschillende licht- en rookeffecten zorgen zij ervoor dat jij vergeet dat de nacht nog niet eens begonnen is! \nGratis glas bubbels\nKom je naar een event van Early Beats maar wil je voorafgaand eerst je vrienden ontmoeten? Dat kan bij de Early Beats Gathering. Vanaf 19.30u ben je al welkom om samen te borrelen onder het genot van een gratis glas bubbels. Dansen kun je vanaf 20.00! \nNieuw\nIn samenwerking met Stadsvilla Sonsbeek zijn er deze editie ook nieuwe combitickets te koop. Zo kun je beneden in de witte villa eerst genieten van een 3-gangendiner\, met amuse én een glas cava\, om daarna boven bij Early Beats lekker uit je dak te gaan. \nMeer informatie\nBij Early Beats kun je vroeg clubben en ben je de volgende dag toch fris voor de rest van je weekend. Wil jij erbij zijn 15 maart in de Stadsvilla Sonsbeek? Wacht dan niet te lang\, want er zijn naast de combitickets nog maar enkel final tickets beschikbaar. Deze kosten € 21\,50 (ex servicekosten) en koop je via https://earlybeats.nl/tickets/. De entree voor de Early Beats Gathering zit in het ticket. \n  \n
URL:https://uitinarnhem.nl/agenda/early-beats-in-stadsvilla-sonsbeek-2/
LOCATION:Stadsvilla Sonsbeek\, Tellegenlaan 3\, Arnhem\, 6814BT
CATEGORIES:Muziek,Overig
ATTACH;FMTTYPE=image/jpeg:https://uitinarnhem.nl/wp-content/uploads/2025/02/DYLAN_EarlybeatsArnhem_11_01_25-74.jpg
END:VEVENT
END:VCALENDAR