BEGIN:VCALENDAR
VERSION:2.0
PRODID:-//Uit in Arnhem - ECPv5.0.0.2//NONSGML v1.0//EN
CALSCALE:GREGORIAN
METHOD:PUBLISH
X-WR-CALNAME:Uit in Arnhem
X-ORIGINAL-URL:https://uitinarnhem.nl
X-WR-CALDESC:Events for Uit in Arnhem
BEGIN:VTIMEZONE
TZID:Europe/Amsterdam
BEGIN:DAYLIGHT
TZOFFSETFROM:+0100
TZOFFSETTO:+0200
TZNAME:CEST
DTSTART:20200329T010000
END:DAYLIGHT
BEGIN:STANDARD
TZOFFSETFROM:+0200
TZOFFSETTO:+0100
TZNAME:CET
DTSTART:20201025T010000
END:STANDARD
END:VTIMEZONE
BEGIN:VEVENT
DTSTART;TZID=Europe/Amsterdam:20201027T190000
DTEND;TZID=Europe/Amsterdam:20201027T230000
DTSTAMP:20260421T040829
CREATED:20201020T143310Z
LAST-MODIFIED:20201020T144740Z
UID:6153-1603825200-1603839600@uitinarnhem.nl
SUMMARY:Driedelig filmprogramma over verzoening door Focus & Museum Arnhem
DESCRIPTION:Focus Filmtheater en Museum Arnhem slaan de handen ineen voor Living\, Forgiving\, Remembering\, een driedelig filmprogramma in Focus op 27 oktober\, 24 november en 12 januari rondom het thema ‘verzoening’ dat past bij de tentoonstelling van Museum Arnhem in de Kerk.  \nTe zien zijn: het onderzoekende Theatre of War door de Argentijnse kunstenaar Lola Arias\, het Libanese The Insult waarin een incident tussen twee mannen leidt tot een zaak van nationaal belang\, en A Haunting History over een jonge Zuid-Soedanese advocaat met een missie: duurzame vrede met de wet als ware gids. Bij iedere film is er een inleiding of nagesprek met een aansprekende gast. Dit programma vindt plaats in het kader van de gelijknamige tentoonstelling die nu in De Kerk\, Museum Arnhem te zien is. Zie focusarnhem.nl voor meer informatie over het programma en tickets. \n  \nDinsdag 27 oktober\, 19:00 uur \nTheatre of War \nDrie Argentijnen en drie Britten gaan de confrontatie aan met zichzelf\, elkaar en de oorlog die hen bindt: de Malvinas-/Falklandoorlog. Het uitgesproken artificiële en zelfbewuste karakter van Theatre of War door de Argentijnse kunstenaar en filmmaker Lola Arias plaatst ook de kijker in een onderzoekende houding. Wat doet oorlog met een mensenleven? Hoe geef je vorm aan herinneringen en hoe draag je die herinneringen over aan de ander? \nGasten: Vooraf vertelt curator Mirjam Westen kort iets over de tentoonstelling in De Kerk. Na de film is er een zaalgesprek met Mart de Kruif\, voormalig luitenant-generaal in de Koninklijke Landmacht die van 2011 tot 2016 commandant landstrijdkrachten was. \n
URL:https://uitinarnhem.nl/agenda/driedeling-filmprogramma-over-verzoening/
LOCATION:Focus Filmtheater\, Audrey Hepburnplein 1\, Arnhem\, 6811 EH\, Nederland
CATEGORIES:Film,Tentoonstelling
ATTACH;FMTTYPE=image/jpeg:https://uitinarnhem.nl/wp-content/uploads/2020/10/theatreofwar3.jpg
END:VEVENT
END:VCALENDAR