BEGIN:VCALENDAR
VERSION:2.0
PRODID:-//Uit in Arnhem - ECPv5.0.0.2//NONSGML v1.0//EN
CALSCALE:GREGORIAN
METHOD:PUBLISH
X-WR-CALNAME:Uit in Arnhem
X-ORIGINAL-URL:https://uitinarnhem.nl
X-WR-CALDESC:Events for Uit in Arnhem
BEGIN:VTIMEZONE
TZID:Europe/Amsterdam
BEGIN:DAYLIGHT
TZOFFSETFROM:+0100
TZOFFSETTO:+0200
TZNAME:CEST
DTSTART:20260329T010000
END:DAYLIGHT
BEGIN:STANDARD
TZOFFSETFROM:+0200
TZOFFSETTO:+0100
TZNAME:CET
DTSTART:20261025T010000
END:STANDARD
END:VTIMEZONE
BEGIN:VEVENT
DTSTART;TZID=Europe/Amsterdam:20260323T110000
DTEND;TZID=Europe/Amsterdam:20260328T170000
DTSTAMP:20260421T015010
CREATED:20260323T141622Z
LAST-MODIFIED:20260323T141622Z
UID:14119-1774263600-1774717200@uitinarnhem.nl
SUMMARY:De Muziekmakerij presenteert MuziekMaakWeek: concerten in Rozet en Musis
DESCRIPTION:De Muziekmakerij presenteert MuziekMaakWeek: concerten in Rozet en Musis \nVan maandag 23 tot en met zaterdag 28 maart viert De Muziekmakerij de Kindermuziekweek met de feestelijke MuziekMaakWeek!  \nEen week vol energie\, samenspeelplezier en optredens van MuMa-muzikanten van alle leeftijden. Kom luisteren\, laat je verrassen en beleef samen een week waarin muziek centraal staat. \n Tijdens de MuziekMaakWeek draait alles om samen muziek maken én beleven. De muziekdocenten zetten een week vol bijzondere projecten op touw\, waarin muziekmakers uit Arnhem elkaar ontmoeten op het podium. \nMuMa-ensembles\, koren en bands laten van zich horen in Rozet Centrum én in Musis. Een week vol energie\, talent en vooral: heel veel muziek. \n  \nMuziekmakerij en MegAIOrkest in Musis\, Velperplein Arnhem\nHoogtepunt van de week is het concert in de Muzenzaal van Musis op vrijdag 27 maart van 19.00 tot 21.00 uur. Hierin is vóór de pauze een bonte verzameling van MuMa-optredens te beluisteren. \nEen instrument spelen is leuk. Samen spelen is nog leuker. Daarom presenteert het AIO samen met De Muziekmakerij ná de pauze het MegAIOrkest\, hét orkestproject voor scholieren van 10 tot 20 jaar. Ook leerlingen van ArtEZ Vooropleiding Muziek spelen een set. \n\n€ 7\,50 (kinderen tot 12 jaar\, Arnhem Card\, GelrePas)\n€ 10 (regulier tarief)\n€ 15 (inclusief extra steun voor De Muziekmakerij)\n\nKaartverkoop via https://www.musisenstadstheater.nl/nl/agenda/de-muziekmakerij-arnhems-interscholair-orkest-presenteert-het-leerlingenconcert-muziekmaakweek/9897 \n  \nMuziekMaakWeek in Rozet Centrum\, Kortestraat 16 \nMaandag 23 maart\, 11.00 – 11.45 uur\, Rozet – Plein op 3: koffieconcert door het Arnhems MaandagochtendORkest (AMOR) \n  \nWoensdag 25 maart\, 19.00 – 21.00 uur\, Rozet – Auditorium: concert door het MuMa Strijkensemble voor volwassen en gevorderde strijkers \n  \nVrijdag 27 maart\, Rozet – Auditorium: uitvoering door leerlingen van pianodocent Cilia Witten \nProgramma 1: 18.00 – 18.45 uur \nProgramma 2: 19.15 – 20.00 uur \n  \nZaterdag 28 maart\, 10.00 – 11.00 uur\, Rozet – Auditorium: open repetitie van het MuMa Strijkorkest. Kom luisteren of meespelen! \nZaterdag 28 maart\, 14.00 – 15.30 uur\, Rozet – Auditorium: harpconcert door leerlingen van harpdocent Nanja Bakker \n  \nJazzconcert in Oosterbeek\nZaterdag 28 maart\, 19.00 uur\, Kultuurwerkplaats Oosterbeek: Jeugdjazzband De PuBi’s \nOp zaterdag 28 maart geven jeugdjazzband De PuBi’s uit Arnhem en omstreken (o.l.v. Marijke Gustorff) en top-trombonist Jeroen Verberne samen een energiek jazzconcert in de Kultuurwerkplaats in Oosterbeek. \nJe kunt gratis een ticket reserveren en op de avond zelf via een QR-code een bedrag betalen om de PuBi’s te steunen.  \nReserveren is verplicht (vol = vol): pubisarnhem@gmail.com \n Tot ziens in Rozet\, Musis of Oosterbeek! \n  \nOver de MuziekMaakWeek\nDe MuziekMaakWeek van De Muziekmakerij brengt jonge muzikanten en hun families samen rond muziek. Een week om samen te spelen\, te luisteren en te ontdekken. Vol inspiratie\, creativiteit en muzikaal plezier. Wees welkom en beleef het live! \n
URL:https://uitinarnhem.nl/agenda/de-muziekmakerij-presenteert-muziekmaakweek-concerten-in-rozet-en-musis/
LOCATION:Rozet\, Kortestraat 16\, Arnhem\, 6811EP\, Nederland
CATEGORIES:Kindvriendelijk
ATTACH;FMTTYPE=image/png:https://uitinarnhem.nl/wp-content/uploads/2026/03/MuMa-naar-Musis.png
END:VEVENT
END:VCALENDAR