BEGIN:VCALENDAR
VERSION:2.0
PRODID:-//Uit in Arnhem - ECPv5.0.0.2//NONSGML v1.0//EN
CALSCALE:GREGORIAN
METHOD:PUBLISH
X-WR-CALNAME:Uit in Arnhem
X-ORIGINAL-URL:https://uitinarnhem.nl
X-WR-CALDESC:Events for Uit in Arnhem
BEGIN:VTIMEZONE
TZID:Europe/Amsterdam
BEGIN:DAYLIGHT
TZOFFSETFROM:+0100
TZOFFSETTO:+0200
TZNAME:CEST
DTSTART:20240331T010000
END:DAYLIGHT
BEGIN:STANDARD
TZOFFSETFROM:+0200
TZOFFSETTO:+0100
TZNAME:CET
DTSTART:20241027T010000
END:STANDARD
END:VTIMEZONE
BEGIN:VEVENT
DTSTART;TZID=Europe/Amsterdam:20241128T190000
DTEND;TZID=Europe/Amsterdam:20241130T200000
DTSTAMP:20260421T072648
CREATED:20241122T130235Z
LAST-MODIFIED:20241122T130235Z
UID:11705-1732820400-1732996800@uitinarnhem.nl
SUMMARY:Dans Dans Revolutie in Theater a/d Rijn
DESCRIPTION:Foto: Bowie Verschuuren\nIn de theatrale installatie Dans Dans Revolutie stap je in het fictieve land Besulia\, waar oorlog uitbreekt. De eeuwenoude traditie van de bevolking om te dansen en zo het kwaad te verdrijven\, lijkt niet meer te werken. De jonge vlogger Anna pakt haar telefoon erbij en roept de wereld op: dans de svaboda samoverzjenja en help ons! \nIn een wereld waar bijna iedereen met elkaar verbonden is en oorlogen en revoluties real-time gedocumenteerd en getoond worden\, spreekt Anna vanuit haar kleine dorp de internationale gemeenschap aan. Samen met haar baba Yara maakt ze instructievideo’s van deze traditionele verdrijvingsdans van de Notsjnik\, beschermer tegen het kwaad. Het aantal volgers blijft groeien en ze blijven delen\, terwijl de vijand steeds dichterbij komt. Tot die voor de deur staat. \nVia telefoons\, een geluidsdecor en de mythologische Notsjnik neemt Dans Dans Revolutie je mee naar Besulia en volg je het verhaal van Anna en baba Yara op (steeds iets minder) veilige afstand. Een magische vertelling in het hart van de huidige geschiedenis. \nDans Dans Revolutie is een productie van Theater Bellevue i.s.m. Wintertuin. \nDans Dans Revolutie is van donderdag 28 november t/m zaterdag 30 november te zien in Theater a/d Rijn. Wil je de installatie meemaken\, reserveer dan een tijdslot via https://www.theateraanderijn.nl/productie/dans-dans-revolutie/\nVerschillende ticketprijzen: Pay what you can \n
URL:https://uitinarnhem.nl/agenda/dans-dans-revolutie-in-theater-a-d-rijn/
LOCATION:Theater aan de Rijn\, Rijnstraat 42\, Arnhem\, 6811 EX\, Nederland
CATEGORIES:Informatief & Verrijking,Theater
ATTACH;FMTTYPE=image/jpeg:https://uitinarnhem.nl/wp-content/uploads/2024/11/Dans-Dans-Revolutie-©Bowie-Verschuuren-2-scaled-1.jpg
END:VEVENT
END:VCALENDAR