BEGIN:VCALENDAR
VERSION:2.0
PRODID:-//Uit in Arnhem - ECPv5.0.0.2//NONSGML v1.0//EN
CALSCALE:GREGORIAN
METHOD:PUBLISH
X-WR-CALNAME:Uit in Arnhem
X-ORIGINAL-URL:https://uitinarnhem.nl
X-WR-CALDESC:Events for Uit in Arnhem
BEGIN:VTIMEZONE
TZID:Europe/Amsterdam
BEGIN:DAYLIGHT
TZOFFSETFROM:+0100
TZOFFSETTO:+0200
TZNAME:CEST
DTSTART:20240331T010000
END:DAYLIGHT
BEGIN:STANDARD
TZOFFSETFROM:+0200
TZOFFSETTO:+0100
TZNAME:CET
DTSTART:20241027T010000
END:STANDARD
END:VTIMEZONE
BEGIN:VEVENT
DTSTART;TZID=Europe/Amsterdam:20241221T190000
DTEND;TZID=Europe/Amsterdam:20241221T220000
DTSTAMP:20260421T145810
CREATED:20241205T181613Z
LAST-MODIFIED:20241205T181613Z
UID:11913-1734807600-1734818400@uitinarnhem.nl
SUMMARY:Dag van de Korte Film 2024 in Focus Filmtheater
DESCRIPTION:Op de kortste dag van het jaar\, 21 december\, wordt de Dag van de Korte Film gevierd. Met een speciaal filmprogramma trakteren we je op de beste korte films van eigen bodem! \nKorte film is spannend\, veelzijdig en heeft voor iedereen iets te bieden. Het is hét medium waarmee jong filmtalent zich aandient. Toch krijgt de korte film vaak weinig aandacht op het witte doek. \nVerheug je op films van zeer talentvolle makers\, zoals o.a. City of Poets (Sara Rajaei)\, die dit jaar het Gouden Kalf voor Beste Korte Documentaire won op het Nederlands Filmfestival. Ook vertonen we Marleen\, van Jop Leuven. Met in de hoofdrol Laura Bakker\, die het Gouden Kalf won voor Beste Hoofdrol Korte Film. En Januari van Jetske Lieber won in Utrecht de KNF Award voor Beste Afstudeerproductie! \nProgramma\nMarleen (Jop Leuven\, 7 min)\nLena zit in groepstherapie\, waarin ze vertelt over drie bepalende relaties. Die met haar vader\, haar eerste vriendje en met Marleen\, een collega met wie ze voor het eerst buiten het werk heeft afgesproken. Het is Marleens open blik die maakt dat Lena anders naar zichzelf wil gaan kijken. \nCity of Poets (Sara Rajaei\, 22 min)\nIn een kleine\, semi-utopische stad zijn alle straten vernoemd naar dichters. Wanneer de oorlog begint\, ontstaan er nieuwe wijken om de vluchtelingen op te vangen. Al snel raken de burgers verdwaald tussen de herinneringen van de vergeten dichters. \nMoustache (Idriss Nabil\, 20 min)\nDalou (11) besluit met zijn beste vriendin Coco (12) op zoek te gaan naar een ‘vervanger’ voor zijn afwezige vader. Maar de zoektocht blijkt zwaarder dan gedacht en hun vriendschap wordt stevig op de proef gesteld. \nSkroll (Marten Visser\, 7 min)\nFilm waarin mensen en een soort kabouters in hun geanimeerde dimensie\, video’s op sociale mediaplatforms hebben geplaatst. Een korte compilatie van deze clips wordt getoond. \nJanuari (Jetske Lieber\, 24 min)\nVoor de twintiger Willem begint Januari met een flinke dosis liefdesverdriet. Hij ziet zich geconfronteerd met de vraag: wie ben ik nog\, zonder mijn ex? Zichzelf terugzoekend\, worstelt Willem zich door kringverjaardagen\, donkere dansvloeren & klimaat-actietrainingen. Als een kameleon gaat hij door het leven\, totdat hij kleur moet bekennen… NL gesproken\, Engels ondertiteld. \nTickets via: https://www.focusarnhem.nl/agenda/dag-van-de-korte-film-2024/\nMeer informatie is te vinden op: https://www.dagvandekortefilm.nl/ \n
URL:https://uitinarnhem.nl/agenda/dag-van-de-korte-film-2024-in-focus-filmtheater/
LOCATION:Focus Filmtheater\, Audrey Hepburnplein 1\, Arnhem\, 6811 EH\, Nederland
CATEGORIES:Film
ATTACH;FMTTYPE=image/jpeg:https://uitinarnhem.nl/wp-content/uploads/2024/12/Dag-van-de-Korte-Film-2024_st_4_jpg_sd-low-1385x720-1.jpg
END:VEVENT
END:VCALENDAR