BEGIN:VCALENDAR
VERSION:2.0
PRODID:-//Uit in Arnhem - ECPv5.0.0.2//NONSGML v1.0//EN
CALSCALE:GREGORIAN
METHOD:PUBLISH
X-WR-CALNAME:Uit in Arnhem
X-ORIGINAL-URL:https://uitinarnhem.nl
X-WR-CALDESC:Events for Uit in Arnhem
BEGIN:VTIMEZONE
TZID:Europe/Amsterdam
BEGIN:DAYLIGHT
TZOFFSETFROM:+0100
TZOFFSETTO:+0200
TZNAME:CEST
DTSTART:20240331T010000
END:DAYLIGHT
BEGIN:STANDARD
TZOFFSETFROM:+0200
TZOFFSETTO:+0100
TZNAME:CET
DTSTART:20241027T010000
END:STANDARD
END:VTIMEZONE
BEGIN:VEVENT
DTSTART;TZID=Europe/Amsterdam:20240321T190000
DTEND;TZID=Europe/Amsterdam:20240323T150000
DTSTAMP:20260421T080319
CREATED:20240313T110957Z
LAST-MODIFIED:20240313T114159Z
UID:8307-1711047600-1711206000@uitinarnhem.nl
SUMMARY:Cultuurfestival van A tot Zuid in winkelcentrum Kronenburg
DESCRIPTION:Op 21\, 22 en 23 maart toveren tientallen Arnhemse kunstenaars en cultuurmakers winkelcentrum Kronenburg om tot één groot podium. Vol met muziek\, dans\, theater\, mode\, workshops en nog heel veel meer. Iedereen is welkom en toegang is gratis.\n  \nOp donderdagavond 21 maart is er een feestelijke opening om 19:00 op het plein bij Rozet Kronenburg. \n  \nProgramma Van A tot Zuid\nHet Cultuurfestival wordt op 21 maart om 19.00 uur feestelijk geopend met een optreden door Tribe Choir. Het grootste deel van het programma vindt plaats op het plein onder bibliotheek Rozet.  Een programma vol met film\, muziek\, workshops en theater: van pop up bioscoop tot dansvoorstelling en van silent disco tot workshop macramé. \nBenieuwd naar het tijdschema en alle activiteiten? \nBekijk hier het hele programma Van A tot Zuid \n  \nMeer cultuur in Arnhem-Zuid\nCultuur levert een belangrijke bijdrage aan de levendigheid en leefbaarheid van wijken. Het brengt inwoners bij elkaar en versterkt de onderlinge verbondenheid. Het is al langere tijd bekend dat het culturele aanbod niet goed is verdeeld over de stad en dat er te weinig culturele voorzieningen zijn in Arnhem-Zuid\, terwijl daar steeds meer mensen wonen. We vinden dit onwenselijk\, kunst en cultuur moet voor iedereen bereikbaar zijn. De nabijheid van cultuur is belangrijk en zelfs bepalend voor de deelname aan cultuur. \nDoor de sterke groei van Arnhem-Zuid in de afgelopen decennia stijgt ook de vraag naar cultureel aanbod en culturele voorzieningen. Daarom zet de Gemeente Arnhem in op de versterking van het culturele aanbod en de faciliteiten in Arnhem-Zuid voor cultuureducatie\, cultuurparticipatie en -presentatie. Samen met bewoners\, cultuurpartners en andere betrokkenen onderzoeken we waar behoefte aan is in Zuid en maken we een duurzaam plan. \nTijdens het Cultuurfestival Van A tot Zuid presenteren 5 makersduo’s hun artistieke vertaling van ontmoetingen en gesprekken in Arnhem-Zuid. Daarnaast laten we in de randprogrammering zien wat voor cultuuraanbod er al is in Arnhem. Tijdens dit festival wordt op verschillende manieren opgehaald aan welke vormen van cultuuraanbod behoefte is in Arnhem-Zuid. \n  \n  \n
URL:https://uitinarnhem.nl/agenda/cultuurfestival-van-a-tot-zuid-in-kronenburg/
LOCATION:Rozet Kronenburg\, Kronenburggalerij 7\, Arnhem\, 6831ET
CATEGORIES:Festival
ATTACH;FMTTYPE=image/jpeg:https://uitinarnhem.nl/wp-content/uploads/2024/03/Van-A-tot-Zuid-71af4933-1a3b-2419-650b-f478065f248e.jpg
END:VEVENT
END:VCALENDAR