BEGIN:VCALENDAR
VERSION:2.0
PRODID:-//Uit in Arnhem - ECPv5.0.0.2//NONSGML v1.0//EN
CALSCALE:GREGORIAN
METHOD:PUBLISH
X-WR-CALNAME:Uit in Arnhem
X-ORIGINAL-URL:https://uitinarnhem.nl
X-WR-CALDESC:Events for Uit in Arnhem
BEGIN:VTIMEZONE
TZID:Europe/Amsterdam
BEGIN:DAYLIGHT
TZOFFSETFROM:+0100
TZOFFSETTO:+0200
TZNAME:CEST
DTSTART:20240331T010000
END:DAYLIGHT
BEGIN:STANDARD
TZOFFSETFROM:+0200
TZOFFSETTO:+0100
TZNAME:CET
DTSTART:20241027T010000
END:STANDARD
END:VTIMEZONE
BEGIN:VEVENT
DTSTART;TZID=Europe/Amsterdam:20240520T120000
DTEND;TZID=Europe/Amsterdam:20240520T170000
DTSTAMP:20260421T053754
CREATED:20240422T120007Z
LAST-MODIFIED:20240422T121335Z
UID:9013-1716206400-1716224400@uitinarnhem.nl
SUMMARY:Culinaire wandeling - WijnSpijs Arnhem
DESCRIPTION:Klaar voor een culinaire ontdekkingstocht langs hotspots in Arnhem?\nHeb jij zin om de culinair Arnhem te ontdekken? Altijd nieuwsgierig naar de verschillende hotspots in onze stad en vind je het leuk om op één dag meerdere pareltjes te bezoeken? Dan is de WijnSpijs wandeling Arnhem zeker iets voor jou. Een heerlijke wandeling met gerechten bij zes culinaire hotspots in onze stad. Bij elk restaurant krijg je een lekkere combinatie van een gerechtje met een bijpassende wijn. \nWijnSpijs Arnhem: zo werkt het\nJe koopt jouw tickets online via de website van WijnSpijs. Je ontvangt jouw eigen WijnSpijs route. Je wordt om 12 uur bij het eerste restaurant van je route verwacht. Daar laat je je ticket zien\, en ga je lekker zitten. Als je klaar bent\, loop je samen met je gezelschap zelf naar het volgende restaurant. Daar laat je je ticket scannen\, geniet je van het eten en drinken\, en ga je verder naar het volgende restaurant. \nAanmelden? Dat kan hier \n
URL:https://uitinarnhem.nl/agenda/culinaire-wandeling-wijnspijs-arnhem/2024-05-20/
LOCATION:Arnhem
CATEGORIES:Actief,Culinair
ATTACH;FMTTYPE=image/jpeg:https://uitinarnhem.nl/wp-content/uploads/2024/04/martijn-baudoin-dvVCeBWexNg-unsplash.jpg
END:VEVENT
END:VCALENDAR