BEGIN:VCALENDAR
VERSION:2.0
PRODID:-//Uit in Arnhem - ECPv5.0.0.2//NONSGML v1.0//EN
CALSCALE:GREGORIAN
METHOD:PUBLISH
X-WR-CALNAME:Uit in Arnhem
X-ORIGINAL-URL:https://uitinarnhem.nl
X-WR-CALDESC:Events for Uit in Arnhem
BEGIN:VTIMEZONE
TZID:Europe/Amsterdam
BEGIN:DAYLIGHT
TZOFFSETFROM:+0100
TZOFFSETTO:+0200
TZNAME:CEST
DTSTART:20200329T010000
END:DAYLIGHT
BEGIN:STANDARD
TZOFFSETFROM:+0200
TZOFFSETTO:+0100
TZNAME:CET
DTSTART:20201025T010000
END:STANDARD
END:VTIMEZONE
BEGIN:VEVENT
DTSTART;TZID=Europe/Amsterdam:20200717T100000
DTEND;TZID=Europe/Amsterdam:20200804T170000
DTSTAMP:20260421T055723
CREATED:20200715T082734Z
LAST-MODIFIED:20200715T082734Z
UID:5639-1594980000-1596560400@uitinarnhem.nl
SUMMARY:Collectie De Groen meets Museum Arnhem
DESCRIPTION:Collectie DE.GROEN is afgelopen jaar geopend met SETUP.04. Dat betekent veel nieuw werk in de collectie en expositieruimte. In de nieuwe rondleidingen wordt dit met veel plezier en een zekere trots getoond. Bijvoorbeeld de film ‘Nightfall van Jeroen Eisinga ‘. Deze film die ongeveer een uur duurt kan in zijn geheel bekeken worden in onze nieuwe videoruimte. Eisinga heeft in de afgelopen 20 jaar een aantal filmische juwelen en juweeltjes gemaakt. ‘Nightfall’ is zijn laatste film. \nDe Rotterdamse kunstenaar van Duitse afkomst Johannes Langkamp heeft in opdracht van DE.GROEN een site specific werk gemaakt. Een in alle eenvoud traag voortbewegend werk.\nNaast deze werken hebben we meer goeds aan onze collectie toegevoegd. Een nieuw fijn schilderij van Ide André. Een knikkerbaan van Chantal van Lieshout. Puffy Bags van Willem de Haan. Een stukje maan\, mars en aarde van de Belgische Julien de Fauw. Van Thijs Linssen hebben we sinds kort het werk ‘Eternal Sunset’ een real-time computer simulatatie. Een epoxy-werk en een autoruit van Arash Fakhim en het prachtige maar dramatische werk ‘Flip Flops’\, een kleine verzameling afgedragen teenslippers\, van de in Berlijn woonachtige Hester Oerlemans. \nSelectie uit werken Museum Arnhem\nMarjolein de Groen en Peter Jordaan zijn samen met conservator Mirjam Westen van Museum Arnhem op zoek gegaan naar interessante werken. Marjolein de Groen: “In onze verzameling bevindt zich bijvoorbeeld de wolk van Berndnaut Smilde. Zijn ‘Nimbus DE.GROEN’ (2017) krijgt een heel andere context door hem naast het werk van Helma Pantus uit de museumcollectie te hangen. Het werk heet ‘Vogels’\, maar ik zie een laag hangende wolk. Ik ben benieuwd hoe deze wolk een relatie aangaat met die van Berndnaut Smilde. Zo hebben we nog meer werken uit de museumcollectie gecombineerd met onze verzameling.” \nOpeningstijden  \nCollectie DE.GROEN is op vrijdag\, zaterdag en zondag geopend. Er zijn verschillende arrangementen. Kijk op de website naar de mogelijkheden! \n
URL:https://uitinarnhem.nl/agenda/collectie-de-groen-meets-museum-arnhem/
CATEGORIES:Tentoonstelling
ATTACH;FMTTYPE=image/jpeg:https://uitinarnhem.nl/wp-content/uploads/2020/07/Museum-Arnhem.jpeg
END:VEVENT
END:VCALENDAR