BEGIN:VCALENDAR
VERSION:2.0
PRODID:-//Uit in Arnhem - ECPv5.0.0.2//NONSGML v1.0//EN
CALSCALE:GREGORIAN
METHOD:PUBLISH
X-WR-CALNAME:Uit in Arnhem
X-ORIGINAL-URL:https://uitinarnhem.nl
X-WR-CALDESC:Events for Uit in Arnhem
BEGIN:VTIMEZONE
TZID:Europe/Amsterdam
BEGIN:DAYLIGHT
TZOFFSETFROM:+0100
TZOFFSETTO:+0200
TZNAME:CEST
DTSTART:20240331T010000
END:DAYLIGHT
BEGIN:STANDARD
TZOFFSETFROM:+0200
TZOFFSETTO:+0100
TZNAME:CET
DTSTART:20241027T010000
END:STANDARD
END:VTIMEZONE
BEGIN:VEVENT
DTSTART;TZID=Europe/Amsterdam:20240510T200000
DTEND;TZID=Europe/Amsterdam:20240510T200000
DTSTAMP:20260423T112245
CREATED:20240305T100156Z
LAST-MODIFIED:20240313T120857Z
UID:8213-1715371200-1715371200@uitinarnhem.nl
SUMMARY:Club Tropicana in Parkzaal Musis
DESCRIPTION:\nGa mee terug in de tijd en laat je meenemen naar Club Tropicana ft. WHAMANIA! \nDe 12-koppige band WHAMANIA! doet de oude tijden van George Michael en Andrew Ridgeley herleven\, compleet met blazers en zangeressen Pepsi & Shirlie. Het feest is compleet met de DJ’s Alex van Oostrom en Bert van Gullik (40UP). Zij zijn verantwoordelijk voor de pre- en afterparties rondom WHAMANIA! En jij kan de hele avond\, samen met je vrienden meezingen en dansen op de lekkerste 70’s\, 80’s en vroege 90’s plaatjes! Let’s go dancing and everything will be alright! \n\n\nTijdens het WHAMANIA! live concert is er op de achtergrond op groot scherm een zelf geproduceerde documentaire te zien als eerbetoon aan WHAM! Waarin niet alleen WHAM! wordt geëerd\, maar ook de uitzonderlijke vriendschap tussen George Michael en Andrew Ridgeley wordt belicht en leidde tot successen als Club Tropicana\, Wake Me Up Before You Go Go\, Freedom\, Last Christmas\, I’m Your Man\, The Edge Of Heaven\, maar ook George Michael’s eerste solosuccessen: Careless Whisper en A Different Corner. \nDe rol van George Michael wordt meesterlijk vertolkt door Jordan Roy\, bekend van Better Than Ever\, X-Factor en The Voice of Holland. Zijn muzikale reis begon met zijn eigen solotournee “Freedom” een eerbetoon aan George Michael. \nDJ’s Alex van Oostrom & Bert van Gulik (40UP) zorgen dat je geen moment stil hoeft te staan; Alle hits uit de periode waar Andrew en George samen zo van hielden en hun eerste danspasjes op oefenden komen voorbij. \n\n
URL:https://uitinarnhem.nl/agenda/club-tropicana-in-parkzaal-musis/
LOCATION:Musis\, Velperbinnensingel 15\, Arnhem\, 6811BP\, Nederland
CATEGORIES:Muziek
ATTACH;FMTTYPE=image/jpeg:https://uitinarnhem.nl/wp-content/uploads/2024/03/header_web_2690x1200_whamania_musis_arnhem.jpg
END:VEVENT
END:VCALENDAR