BEGIN:VCALENDAR
VERSION:2.0
PRODID:-//Uit in Arnhem - ECPv5.0.0.2//NONSGML v1.0//EN
CALSCALE:GREGORIAN
METHOD:PUBLISH
X-WR-CALNAME:Uit in Arnhem
X-ORIGINAL-URL:https://uitinarnhem.nl
X-WR-CALDESC:Events for Uit in Arnhem
BEGIN:VTIMEZONE
TZID:Europe/Amsterdam
BEGIN:DAYLIGHT
TZOFFSETFROM:+0100
TZOFFSETTO:+0200
TZNAME:CEST
DTSTART:20250330T010000
END:DAYLIGHT
BEGIN:STANDARD
TZOFFSETFROM:+0200
TZOFFSETTO:+0100
TZNAME:CET
DTSTART:20251026T010000
END:STANDARD
END:VTIMEZONE
BEGIN:VEVENT
DTSTART;TZID=Europe/Amsterdam:20250321T140000
DTEND;TZID=Europe/Amsterdam:20250321T233000
DTSTAMP:20260421T121329
CREATED:20250304T180540Z
LAST-MODIFIED:20250304T180540Z
UID:12581-1742565600-1742599800@uitinarnhem.nl
SUMMARY:Café Theater Festival 2025 in Arnhem
DESCRIPTION:15 cafés in Arnhem vormen 2 dagen lang het toneel voor korte (muziek)theater- en dansvoorstellingen. Het Café Theater Festival (CTF) vermengt podiumkunsten en de horeca tot een plek waar niets is wat het lijkt. Je tafel wordt ineens een podium en een luidruchtige stamgast blijkt een acteur. Cafés vormen het decor van korte voorstellingen van nieuwe makers. \nTijdens het CTF in Arnhem kan in 15 cafés door de binnenstad\, het Spijkerkwartier en Klarendal worden genoten van dans\, theater\, spoken word\, musical\, hiphop\, toneel en meer! Noteer dus snel in je agenda. \nHet festival werkt zonder reserveren en vooraf kaartjes kopen. Je bent welkom in één of meerdere cafés gedurende het festival. ​Na afloop van de voorstelling kun je een ‘pay-what-you-can’ betaling doen aan de artiesten. Er is gemiddeld €8 per bezoeker nodig om de voorstellingen te kunnen bekostigen. Indien je minder of juist meer kunt missen\, kies je voor €6 of €10. \nHet volledige programma is te vinden op de website: https://cafetheaterfestival.nl/arnhem/programma/ \nData\n21 maart 2025\n22 maart 2025 \n
URL:https://uitinarnhem.nl/agenda/cafe-theater-festival-2025-in-arnhem/
LOCATION:Binnenstad Arnhem
CATEGORIES:Festival,Muziek,Theater
ATTACH;FMTTYPE=image/jpeg:https://uitinarnhem.nl/wp-content/uploads/2025/03/festival.jpg
END:VEVENT
END:VCALENDAR