BEGIN:VCALENDAR
VERSION:2.0
PRODID:-//Uit in Arnhem - ECPv5.0.0.2//NONSGML v1.0//EN
CALSCALE:GREGORIAN
METHOD:PUBLISH
X-WR-CALNAME:Uit in Arnhem
X-ORIGINAL-URL:https://uitinarnhem.nl
X-WR-CALDESC:Events for Uit in Arnhem
BEGIN:VTIMEZONE
TZID:Europe/Amsterdam
BEGIN:DAYLIGHT
TZOFFSETFROM:+0100
TZOFFSETTO:+0200
TZNAME:CEST
DTSTART:20240331T010000
END:DAYLIGHT
BEGIN:STANDARD
TZOFFSETFROM:+0200
TZOFFSETTO:+0100
TZNAME:CET
DTSTART:20241027T010000
END:STANDARD
END:VTIMEZONE
BEGIN:VEVENT
DTSTART;TZID=Europe/Amsterdam:20240529T203000
DTEND;TZID=Europe/Amsterdam:20240529T223000
DTSTAMP:20260421T062217
CREATED:20240415T090125Z
LAST-MODIFIED:20240415T090600Z
UID:8819-1717014600-1717021800@uitinarnhem.nl
SUMMARY:Café Electrique on tour
DESCRIPTION:\nMet Rob Kamphues en Nyck de Vries\n\n\nStap in en ervaar een avond vol sensatie in de wereld van Formule E! Voormalig coureur en tweevoudig Formule E-wereldkampioen Nyck de Vries en de scherpe Nederlandse televisiepersoonlijkheid Rob Kamphues praten je in een avond tijdens Café Electrique helemaal bij. \n\n\nIn ware Top Gear-stijl duiken ze diep in de elektrische racewereld\, met meeslepende verhalen\, de laatste ontwikkelingen\, tafelgasten en unieke inzichten over de impact van elektriciteit in de autosport. Bereid je voor op een avond vol inspiratie en een exclusieve kijk achter de schermen van de snelle wereld van de autosport. \nEn alsof dat nog niet genoeg is\, krijg je ook de kans om een Formule E-racewagen van dichtbij te bewonderen. Mis deze elektrificerende ervaring niet! \nPrijzen vanaf \n\n\nCJP en Jongeren t/m 18 jaar € 15\,00\nStudentenpas € 15\,00\nZitplaats € 23\,50\n\n  \n\nCafé Electrique is onderdeel van de Arnhem Electricity Week\, klik hier voor meer informatie. \n\n
URL:https://uitinarnhem.nl/agenda/cafe-electrique-on-tour/
LOCATION:Musis\, Velperbinnensingel 15\, Arnhem\, 6811BP\, Nederland
CATEGORIES:Informatief & Verrijking,Theater
ATTACH;FMTTYPE=image/png:https://uitinarnhem.nl/wp-content/uploads/2024/04/Musis_rob_en_nyck_.png
END:VEVENT
END:VCALENDAR