BEGIN:VCALENDAR
VERSION:2.0
PRODID:-//Uit in Arnhem - ECPv5.0.0.2//NONSGML v1.0//EN
CALSCALE:GREGORIAN
METHOD:PUBLISH
X-WR-CALNAME:Uit in Arnhem
X-ORIGINAL-URL:https://uitinarnhem.nl
X-WR-CALDESC:Events for Uit in Arnhem
BEGIN:VTIMEZONE
TZID:Europe/Amsterdam
BEGIN:DAYLIGHT
TZOFFSETFROM:+0100
TZOFFSETTO:+0200
TZNAME:CEST
DTSTART:20240331T010000
END:DAYLIGHT
BEGIN:STANDARD
TZOFFSETFROM:+0200
TZOFFSETTO:+0100
TZNAME:CET
DTSTART:20241027T010000
END:STANDARD
END:VTIMEZONE
BEGIN:VEVENT
DTSTART;TZID=Europe/Amsterdam:20241207T200000
DTEND;TZID=Europe/Amsterdam:20241207T220000
DTSTAMP:20260421T171437
CREATED:20241105T151454Z
LAST-MODIFIED:20241105T151454Z
UID:11487-1733601600-1733608800@uitinarnhem.nl
SUMMARY:Boekestijn en De Wijk met Geopolitieke Eindejaarsshow in Musis
DESCRIPTION:Na het succes van vorig jaar zijn Rob de Wijk en Arend Jan Boekestijn opnieuw klaar om het jaar af te sluiten met hun kritische en humoristische blik op de geopolitieke ontwikkelingen van het afgelopen jaar. In hun nieuwste voorstelling\, Boekestijn en de Wijk omarmen de ondergang\, nemen zij het publiek mee op een reis door de recente geschiedenis. Daarnaast kijken zij vooruit naar wat de toekomst in petto heeft. Zaterdag 7 december staan ze in Musis. \nDe voorstelling draait om de onvermijdelijke realiteit dat de westerse wereldheerschappij zijn beste tijd heeft gehad. Hoewel dit voor velen een bitterzoete constatering is\, betogen Boekestijn en De Wijk dat het grootste gevaar schuilt in het verzet tegen dit onvermijdelijke machtsverval. In plaats van vast te houden aan een denkbeeldig verleden\, pleiten zij voor een ordelijke en verstandige omgang met deze veranderingen. De spanning tussen het Westen en opkomende grootmachten zoals China kan immers snel escaleren als we niet oppassen. \nTijdens de show onderzoeken ze hoe eerdere wereldrijken zijn ondergegaan en welke lessen hieruit getrokken kunnen worden om het Westen zo goed mogelijk door deze uitdagende tijden te loodsen. Het duo benadrukt echter dat de situatie misschien hopeloos lijkt\, maar zeker niet ernstig is. Ze nodigen het publiek uit om met een opgewekt gevoel de afgrond in te kijken en samen te reflecteren op wat komen gaat. \nOver de sprekers:\n• Rob de Wijk is hoogleraar Internationale Betrekkingen aan de Universiteit van Leiden. Hij is oprichter van het HCSS en auteur van onder meer De Slag om Europa.\n• Arend Jan Boekestijn is historicus\, verbonden aan de Universiteit Utrecht en voormalig Tweede Kamerlid.\n• Hugo Reitsma is presentator en verslaggever bij BNR Nieuwsradio en zal ook dit jaar de show presenteren. \nVoor meer informatie: http://www.bnr.nl/theater\nTickets vanaf €10 \n
URL:https://uitinarnhem.nl/agenda/boekestijn-en-de-wijk-met-geopolitieke-eindejaarsshow-in-musis/
LOCATION:Musis\, Velperbinnensingel 15\, Arnhem\, 6811BP\, Nederland
CATEGORIES:Informatief & Verrijking,Overig
ATTACH;FMTTYPE=image/jpeg:https://uitinarnhem.nl/wp-content/uploads/2024/11/Beeld-BW_socials-1.jpg
END:VEVENT
END:VCALENDAR