BEGIN:VCALENDAR
VERSION:2.0
PRODID:-//Uit in Arnhem - ECPv5.0.0.2//NONSGML v1.0//EN
CALSCALE:GREGORIAN
METHOD:PUBLISH
X-WR-CALNAME:Uit in Arnhem
X-ORIGINAL-URL:https://uitinarnhem.nl
X-WR-CALDESC:Events for Uit in Arnhem
BEGIN:VTIMEZONE
TZID:Europe/Amsterdam
BEGIN:DAYLIGHT
TZOFFSETFROM:+0100
TZOFFSETTO:+0200
TZNAME:CEST
DTSTART:20250330T010000
END:DAYLIGHT
BEGIN:STANDARD
TZOFFSETFROM:+0200
TZOFFSETTO:+0100
TZNAME:CET
DTSTART:20251026T010000
END:STANDARD
END:VTIMEZONE
BEGIN:VEVENT
DTSTART;TZID=Europe/Amsterdam:20250323T150000
DTEND;TZID=Europe/Amsterdam:20250323T163000
DTSTAMP:20260423T103340
CREATED:20250210T151417Z
LAST-MODIFIED:20250210T151417Z
UID:12429-1742742000-1742747400@uitinarnhem.nl
SUMMARY:BOEKENWEEK: Marlies Smeenge in Het Colofon
DESCRIPTION:Op zondag 23 maart – in De Boekenweek – ontvangt Het Colofon auteur en regisseur Marlies Smeenge voor een interview over haar debuutroman De bananenlezers.  \nMarlies Smeenge (1993) groeide op in Arnhem en verhuisde voor haar studie naar Antwerpen. Ze volgde daar de opleiding woordkunst aan het Koninklijk Conservatorium Antwerpen. Ze maakte meerdere documentaires\, waaronder De Butlers (VPRO). Deze won de belangrijke internationale Prix Europa voor beste documentaireserie. Ze heeft een fascinatie voor de schijnbaar normale mens waar een interessant of inspirerend verhaal achter schuilgaat. \nZondag 23 maart\n15.00-16.30 uur (inloop 14.30 uur)\nVrij toegankelijk\, graag aanmelden per mail. \n  \n
URL:https://uitinarnhem.nl/agenda/boekenweek-marlies-smeenge-in-het-colofon/
LOCATION:Het Colofon\, Bakkerstraat 56\, Arnhem\, 6811 EJ\, Nederland
CATEGORIES:Informatief & Verrijking,Overig
ATTACH;FMTTYPE=image/png:https://uitinarnhem.nl/wp-content/uploads/2025/02/ic_large_w900h600q100_bw-liggend.png
END:VEVENT
END:VCALENDAR