BEGIN:VCALENDAR
VERSION:2.0
PRODID:-//Uit in Arnhem - ECPv5.0.0.2//NONSGML v1.0//EN
CALSCALE:GREGORIAN
METHOD:PUBLISH
X-WR-CALNAME:Uit in Arnhem
X-ORIGINAL-URL:https://uitinarnhem.nl
X-WR-CALDESC:Events for Uit in Arnhem
BEGIN:VTIMEZONE
TZID:Europe/Amsterdam
BEGIN:DAYLIGHT
TZOFFSETFROM:+0100
TZOFFSETTO:+0200
TZNAME:CEST
DTSTART:20240331T010000
END:DAYLIGHT
BEGIN:STANDARD
TZOFFSETFROM:+0200
TZOFFSETTO:+0100
TZNAME:CET
DTSTART:20241027T010000
END:STANDARD
END:VTIMEZONE
BEGIN:VEVENT
DTSTART;TZID=Europe/Amsterdam:20241018T200000
DTEND;TZID=Europe/Amsterdam:20241031T220000
DTSTAMP:20260421T073946
CREATED:20241015T180950Z
LAST-MODIFIED:20241015T180950Z
UID:11133-1729281600-1730412000@uitinarnhem.nl
SUMMARY:Black Achievement Month in Theater a/d Rijn
DESCRIPTION:Jaarlijks wordt in Nederland in oktober Black Achievement Month georganiseerd. Het festival heeft als doel de uitzonderlijke talenten van mensen met Afrikaanse roots in de schijnwerpers te zetten. Het thema van de 9e editie is ‘New Generations’. Theater a/d Rijn presenteert van 18 t/m 31 oktober een divers programma met voorstellingen van een nieuwe generatie makers\, waarvan een aantal uit Arnhem. Deze opvallende groep stemmen brengt actuele en zeer persoonlijke verhalen het theater in.\n\nHet programma\nSue-Ann Bel won onlangs de BNG Bank Theaterprijs en creëert in Bitemarks on her tongue ruimte voor haar stemgeluid. Laag voor laag pelt ze haar schreeuw af en ondervindt ze een verlangen wat eronder zit: een verlangen naar geborgenheid\, geborgenheid in de harde realiteit van een onvoorspelbare wereld. \nMi Pret’i Wowo is een zoektocht naar verbinding en heling van een ingewikkelde vader-dochterrelatie. Choreografe Junadry Leocaria en haar vader\, voormalig professioneel danser Candido Maduro\, betreden samen het podium in een intiem duet dat de complexiteit van hun band verkent. \nDe Arnhemse beeldend kunstenaar Richard Kofi neemt met zes artiesten het hele theater voor het programma Spirit People. Samen creëren ze een reis vol performances\, muziek en voordrachten waarin de grenzen van kunst en spiritualiteit worden opgezocht. De artiesten zijn de Arnhemse Kate Donkor\, a.k.a. Oshunmare\, Junadry Leocaria\, Christian Guerematchi\, Suus te Braak a.k.a. DJ Hizzle\, Nelgina Khensani van Leeuwen en Nina Bábòyómà Kunst. \nDe maand wordt afgesloten door de Arnhemse huismaker Wensley Piqué met zijn nieuwste voorstelling ODO. Met maquettes\, overheadprojector\, zandkunst\, live-cinema en indringende soundscapes verbeeldt hij zijn kennismaking met een gemeenschap diep in het binnenland van Suriname. Een gemeenschap die diep verbonden is met de natuur. Hij schetst hun historische context van trans-Atlantische slavernij\, de ontvoering uit Afrika\, de ontsnappingen\, het verzet en toont hun immense veerkracht. \nVR 18 OKT  Bitemarks on her Tongue Sue Ann Bel\nMA 21 OKT  Mi Pret’i Wowo Junadry Leocaria\nDI 29 OKT  Spirit People Richard Kofi & The Non-Aligned Collective\nWO 30\, DO31 OKT ODO Wensley Piqué \nPraktische informatie\nTheater a/d Rijn werkt met het zogenaamde Pay what you can-principe waarbij jij als bezoeker zelf je prijs voor een ticket bepaalt\, afhankelijk van wat jouw persoonlijke bestedingsruimte op dat moment is. De prijzen variëren tussen € 7\,00 en € 35\,00. Je kunt ook betalen met de Gelrepas of Podiumpas. \n
URL:https://uitinarnhem.nl/agenda/black-achievement-month-in-theater-a-d-rijn/
LOCATION:Theater aan de Rijn\, Rijnstraat 42\, Arnhem\, 6811 EX\, Nederland
CATEGORIES:Festival,Informatief & Verrijking,Muziek,Theater
ATTACH;FMTTYPE=image/jpeg:https://uitinarnhem.nl/wp-content/uploads/2024/10/Sjoerd-Derine-1-1-1-800x330-1.jpg
END:VEVENT
END:VCALENDAR