BEGIN:VCALENDAR
VERSION:2.0
PRODID:-//Uit in Arnhem - ECPv5.0.0.2//NONSGML v1.0//EN
CALSCALE:GREGORIAN
METHOD:PUBLISH
X-WR-CALNAME:Uit in Arnhem
X-ORIGINAL-URL:https://uitinarnhem.nl
X-WR-CALDESC:Events for Uit in Arnhem
BEGIN:VTIMEZONE
TZID:Europe/Amsterdam
BEGIN:DAYLIGHT
TZOFFSETFROM:+0100
TZOFFSETTO:+0200
TZNAME:CEST
DTSTART:20240331T010000
END:DAYLIGHT
BEGIN:STANDARD
TZOFFSETFROM:+0200
TZOFFSETTO:+0100
TZNAME:CET
DTSTART:20241027T010000
END:STANDARD
END:VTIMEZONE
BEGIN:VEVENT
DTSTART;TZID=Europe/Amsterdam:20241026T093000
DTEND;TZID=Europe/Amsterdam:20241026T220000
DTSTAMP:20260423T123918
CREATED:20241023T114757Z
LAST-MODIFIED:20241023T114757Z
UID:11295-1729935000-1729980000@uitinarnhem.nl
SUMMARY:Bitcoindag in Hotel Haarhuis
DESCRIPTION:Ben jij een beginnende of doorgewinterde bitcoiner? Schrijf je dan in voor de LP Bitcoindag te Arnhem\, de enige echte Bitcoinstad van Nederland! Met aansluitend de Bitcoin Meetup\, georganiseerd door Arnhem Bitcoinstad. \nKom naar deze inspirerende dag\, die plaatsvindt in 5-sterrenhotel Haarhuis naast station Arnhem CS en laat je inspireren door 3 gepassioneerde sprekers die je alle ins and outs over Bitcoin vertellen. ‘s Middags krijg je de gelegenheid om je eigen wallet te openen. Ook als je geen LP-lid bent\, ben je van harte welkom op de Bitcoindag! \nCatering\n‘s Ochtends word je verwelkomd met een zoete lekkernij. Tussen 12.00 en 13.30 uur geniet je van een uitgebreide luxe lunch. In de middag wordt er een gezonde snack met een frisdrank aangeboden. Gedurende de hele dag maak je onbeperkt gebruik van koffie\, thee\, bruiswater en koekjes. \nProgramma\n09.30 – 10:00 uur: inloop\n10.00 – 11.00 uur: Rutger Weemhoff\, “Waarom Bitcoin?”\n11.00 – 12.00 uur: Patrick van der Meijde\, “Alles wat je moet weten over Bitcoin”\n12.00 – 13.30 uur: lunch\n13.30 – 14.30 uur: Tom van Lamoen\, “De rol van overheden bij Bitcoin”\n14.30 – 15.00 uur: Q&A: stel al je vragen over Bitcoin\n15.00 – 15.15 uur Pauze met snack\n15.15 – 15.45 uur: openen van je eigen wallet\n15.45 – 17.00 uur: doe je eerste aankoop met Bitcoin in het centrum van Arnhem\n17.00 – 22.00 uur: Bitcoin Meetup \nAanmelden via https://stemlp.nl/evenementen/lp-bitcoindag/\nKosten vanaf 40 euro. \n
URL:https://uitinarnhem.nl/agenda/bitcoindag-in-hotel-haarhuis/
LOCATION:Hotel Haarhuis\, Stationsplein 1\, Arnhem\, 6811 KG\, Nederland
CATEGORIES:Actief,Beurs,Informatief & Verrijking
ATTACH;FMTTYPE=image/jpeg:https://uitinarnhem.nl/wp-content/uploads/2024/10/image-hotel-haarhuis.jpeg
END:VEVENT
END:VCALENDAR