BEGIN:VCALENDAR
VERSION:2.0
PRODID:-//Uit in Arnhem - ECPv5.0.0.2//NONSGML v1.0//EN
CALSCALE:GREGORIAN
METHOD:PUBLISH
X-WR-CALNAME:Uit in Arnhem
X-ORIGINAL-URL:https://uitinarnhem.nl
X-WR-CALDESC:Events for Uit in Arnhem
BEGIN:VTIMEZONE
TZID:Europe/Amsterdam
BEGIN:DAYLIGHT
TZOFFSETFROM:+0100
TZOFFSETTO:+0200
TZNAME:CEST
DTSTART:20240331T010000
END:DAYLIGHT
BEGIN:STANDARD
TZOFFSETFROM:+0200
TZOFFSETTO:+0100
TZNAME:CET
DTSTART:20241027T010000
END:STANDARD
END:VTIMEZONE
BEGIN:VEVENT
DTSTART;TZID=Europe/Amsterdam:20240517T180000
DTEND;TZID=Europe/Amsterdam:20240517T180000
DTSTAMP:20260421T021719
CREATED:20240508T080430Z
LAST-MODIFIED:20240508T080431Z
UID:9393-1715968800-1715968800@uitinarnhem.nl
SUMMARY:Beleef ABBA - Rijnhal Arnhem
DESCRIPTION:Na het geweldige succes van Beleef ABBA in oktober 2023 komt er een tweede editie. En wat voor één! Misschien wel de beste ABBA Tributeband van Europa komt naar Arnhem. \n\n\nA*FEVER mag zich met recht de populairste tributeband van Nederland noemen. Een uitpuilende agenda met grote festivals als Paaspop\, de Zwarte Cross\, een uitverkochte poppodium- & theatertour én twee uitverkochte jubileumshows in AFAS Live. Dit jaar sluiten ze zelfs af met een giga show in de Ziggodome. Maar eerst komen ze voor een groot concert naar Beleef ABBA in Arnhem \nA*Fever is ook bekend van het tv-programma The Tribute – Battle of the Bands op SBS6. \n\n\n
URL:https://uitinarnhem.nl/agenda/beleef-abba-rijnhal-arnhem/
LOCATION:Rijnhal Arnhem\, Olympus 1\, Arnhem\, 6832 EL\, Nederland
ATTACH;FMTTYPE=image/jpeg:https://uitinarnhem.nl/wp-content/uploads/2024/05/Klein-Tijmenberens_ABBA_20231018-119.jpg
END:VEVENT
END:VCALENDAR