BEGIN:VCALENDAR
VERSION:2.0
PRODID:-//Uit in Arnhem - ECPv5.0.0.2//NONSGML v1.0//EN
CALSCALE:GREGORIAN
METHOD:PUBLISH
X-WR-CALNAME:Uit in Arnhem
X-ORIGINAL-URL:https://uitinarnhem.nl
X-WR-CALDESC:Events for Uit in Arnhem
BEGIN:VTIMEZONE
TZID:Europe/Amsterdam
BEGIN:DAYLIGHT
TZOFFSETFROM:+0100
TZOFFSETTO:+0200
TZNAME:CEST
DTSTART:20250330T010000
END:DAYLIGHT
BEGIN:STANDARD
TZOFFSETFROM:+0200
TZOFFSETTO:+0100
TZNAME:CET
DTSTART:20251026T010000
END:STANDARD
END:VTIMEZONE
BEGIN:VEVENT
DTSTART;TZID=Europe/Amsterdam:20250516T160000
DTEND;TZID=Europe/Amsterdam:20250516T230000
DTSTAMP:20260423T085928
CREATED:20250312T131907Z
LAST-MODIFIED:20250312T131907Z
UID:12605-1747411200-1747436400@uitinarnhem.nl
SUMMARY:ASM Student Festival 2025 aan de Stadsblokken Arnhem
DESCRIPTION:Het ASM Student Festival keert terug naar Arnhem met een indrukwekkende line-up en volop kansen voor studenten. Op vrijdag 16 mei 2025 zullen de Stadsblokken in Arnhem opnieuw het bruisende decor vormen voor dit unieke evenement. \nIndrukwekkende line-up\nNa het succes van de eerste editie in 2024\, presenteert de organisatie dit jaar een sterke line-up. Maak je klaar voor optredens van populaire artiesten zoals Bankzitters\, Flemming\, STUK LIVE\, Jonna Fraser\, Turfy Gang\, ADF Samski\, Lies Zhara\, Kav Verhouzer en De Hofnar. Een festivaldag die je niet wilt missen! \nMeer dan alleen een festival\nHet ASM Student Festival is een initiatief van Arnhem Studiestad\, in samenwerking met HAN University of Applied Sciences\, ArtEZ University of the Arts\, Hogeschool Van Hall Larenstein University of Applied Sciences\, ROC Rijn IJssel\, de Gemeente Arnhem\, The Economic Board en ASM Festival. Het festival draagt bij aan de aantrekkelijkheid van Arnhem als studentenstad en heeft als doel studenten na hun studie te behouden voor de regio. Naast de muzikale optredens biedt het festival studenten ook de mogelijkheid om in contact te komen met bedrijven uit de regio en zo hun carrièremogelijkheden te verkennen. \nGratis toegang voor studenten\nHet ASM Student Festival is gratis toegankelijk voor mbo- en hbo-studenten uit de regio Arnhem en Nijmegen\, verbonden aan één van de Kennisinstellingen binnen Arnhem Studiestad: HAN University of Applied Sciences\, ArtEZ University of the Arts\, Hogeschool Van Hall Larenstein University of Applied Sciences en ROC Rijn IJssel. Studenten kunnen vanaf 18 maart hun gratis tickets claimen via een link die verstuurd wordt naar hun schoolmail. Er zijn 15.000 tickets beschikbaar. \nOver Arnhem Studiestad\nArnhem Studiestad is een samenwerkingsverband tussen onderwijsinstellingen en de gemeente Arnhem\, met als doel Arnhem te positioneren als een aantrekkelijke stad voor studenten. \n
URL:https://uitinarnhem.nl/agenda/asm-student-festival-2025-aan-de-stadsblokken-arnhem/
LOCATION:Stadsblokken\, Stadsblokkenweg 25\, Arnhem
CATEGORIES:Actief,Festival,Muziek,Overig
ATTACH;FMTTYPE=image/jpeg:https://uitinarnhem.nl/wp-content/uploads/2025/03/asm-student.jpg
END:VEVENT
END:VCALENDAR