BEGIN:VCALENDAR
VERSION:2.0
PRODID:-//Uit in Arnhem - ECPv5.0.0.2//NONSGML v1.0//EN
CALSCALE:GREGORIAN
METHOD:PUBLISH
X-WR-CALNAME:Uit in Arnhem
X-ORIGINAL-URL:https://uitinarnhem.nl
X-WR-CALDESC:Events for Uit in Arnhem
BEGIN:VTIMEZONE
TZID:Europe/Amsterdam
BEGIN:DAYLIGHT
TZOFFSETFROM:+0100
TZOFFSETTO:+0200
TZNAME:CEST
DTSTART:20240331T010000
END:DAYLIGHT
BEGIN:STANDARD
TZOFFSETFROM:+0200
TZOFFSETTO:+0100
TZNAME:CET
DTSTART:20241027T010000
END:STANDARD
END:VTIMEZONE
BEGIN:VEVENT
DTSTART;TZID=Europe/Amsterdam:20240518T140000
DTEND;TZID=Europe/Amsterdam:20240518T230000
DTSTAMP:20260421T034126
CREATED:20240312T102725Z
LAST-MODIFIED:20240425T094155Z
UID:8293-1716040800-1716073200@uitinarnhem.nl
SUMMARY:ASM festival stadsblokken Arnhem
DESCRIPTION:Het ASM Festival brengt jaarlijks vrienden samen in een unieke setting aan de Rijn. Met een indrukwekkende line-up waaronder Di-rect\, De jeugd van tegenwoordig en Andre Hazes\, prachtige locatie en een gastvrije sfeer\, is het festival elk jaar één groot feest. Bij lokale cateraars vind je smakelijke snacks tot culinaire hoogstandjes. Kom je samen het festivalseizoen openen op het ASM Festival? \n  \n
URL:https://uitinarnhem.nl/agenda/asm-festival-stadsblokken-arnhem/
LOCATION:Stadsblokken\, Stadsblokkenweg 25\, Arnhem
CATEGORIES:Festival
ATTACH;FMTTYPE=image/jpeg:https://uitinarnhem.nl/wp-content/uploads/2024/03/ASM-00109_20230826_164822_ValkEventProductions.jpg
END:VEVENT
END:VCALENDAR