BEGIN:VCALENDAR
VERSION:2.0
PRODID:-//Uit in Arnhem - ECPv5.0.0.2//NONSGML v1.0//EN
CALSCALE:GREGORIAN
METHOD:PUBLISH
X-WR-CALNAME:Uit in Arnhem
X-ORIGINAL-URL:https://uitinarnhem.nl
X-WR-CALDESC:Events for Uit in Arnhem
BEGIN:VTIMEZONE
TZID:Europe/Amsterdam
BEGIN:DAYLIGHT
TZOFFSETFROM:+0100
TZOFFSETTO:+0200
TZNAME:CEST
DTSTART:20200329T010000
END:DAYLIGHT
BEGIN:STANDARD
TZOFFSETFROM:+0200
TZOFFSETTO:+0100
TZNAME:CET
DTSTART:20201025T010000
END:STANDARD
END:VTIMEZONE
BEGIN:VEVENT
DTSTART;TZID=Europe/Amsterdam:20200908T170000
DTEND;TZID=Europe/Amsterdam:20200912T230000
DTSTAMP:20260421T045708
CREATED:20200827T104229Z
LAST-MODIFIED:20200827T110552Z
UID:5807-1599584400-1599951600@uitinarnhem.nl
SUMMARY:Arnhemse Meisjes | Verlaten Vrouwen in Theater aan de Rijn
DESCRIPTION:Wat is er nu lokaler dan de Arnhemse Meisjes? Het danscollectief en de winnaars van de Arnhemse Cultuurprijs 2020 werken aan hun nieuwste locatievoorstelling\, Verlaten Vrouwen. Opgezweept door het gitaarspel van Wout Kemkens (o.a. gitarist van Shaking Godspeed\, Donnerwetter en De Niemanders) onderzoeken ze alle uithoeken van het spectrum van vrouw-zijn: van kracht tot kwetsbaarheid. Speels en lichtvoetig nemen ze je\, buiten op het plein voor Theater a/d Rijn\, mee in een herkenbare zoektocht naar wat het anno 2020 betekent om vrouw te zijn. \n#radicaallokaal\nBinnen #radicaallokaal vraagt De Nieuwe Oost makers zichzelf en hun werk opnieuw uit te vinden binnen het ‘nieuwe normaal’ van de anderhalvemetersamenleving. Iedere editie krijgt een maker of kunstenaar één week lang de vrijheid en support dit experiment in Theater a/d Rijn aan te gaan. Volledig lokaal – mét en vóór de stad. \nBeleef in een timeslot van een uur work in progress van opvallende makers binnen de kaders van het nu. Daarna kun je in gesprek. De bar is open! \nPraktische informatie: Op donderdag 10 september om 20:00 is de première van de voorstelling. De voorstellingen vinden buiten plaats\, bij slecht weer wordt het verplaatst naar de benedenzaal. Bekijk alle speeltijden op de website van Theater aan de Rijn. \n  \n
URL:https://uitinarnhem.nl/agenda/arnhemse-meisjes-in-theater-aan-de-rijn-radicaallokaal/
LOCATION:Theater aan de Rijn\, Rijnstraat 42\, Arnhem\, 6811 EX\, Nederland
CATEGORIES:Theater
ATTACH;FMTTYPE=image/jpeg:https://uitinarnhem.nl/wp-content/uploads/2020/08/AM_VerlatenVrouwen_03-1-LRG-CROP.jpg
END:VEVENT
END:VCALENDAR