BEGIN:VCALENDAR
VERSION:2.0
PRODID:-//Uit in Arnhem - ECPv5.0.0.2//NONSGML v1.0//EN
CALSCALE:GREGORIAN
METHOD:PUBLISH
X-WR-CALNAME:Uit in Arnhem
X-ORIGINAL-URL:https://uitinarnhem.nl
X-WR-CALDESC:Events for Uit in Arnhem
BEGIN:VTIMEZONE
TZID:Europe/Amsterdam
BEGIN:DAYLIGHT
TZOFFSETFROM:+0100
TZOFFSETTO:+0200
TZNAME:CEST
DTSTART:20240331T010000
END:DAYLIGHT
BEGIN:STANDARD
TZOFFSETFROM:+0200
TZOFFSETTO:+0100
TZNAME:CET
DTSTART:20241027T010000
END:STANDARD
END:VTIMEZONE
BEGIN:VEVENT
DTSTART;TZID=Europe/Amsterdam:20240520T140000
DTEND;TZID=Europe/Amsterdam:20240520T220000
DTSTAMP:20260421T053422
CREATED:20240327T091832Z
LAST-MODIFIED:20240327T111427Z
UID:8589-1716213600-1716242400@uitinarnhem.nl
SUMMARY:ARNHEMS LEVENSLIED
DESCRIPTION:Arnhems Levenslied met afsluitend concert van Gewoon André 20 mei in Mega feesttent bij Arnhemse Rijnhal. \nFranz Joostink behoort inmiddels tot 1 van de allerbekendste levenslied zangers van Arnhem. En eindelijk is het zover: zijn eerste Arnhemse Levenslied festival vindt op 2e pinksterdag maandag 20 mei plaats in een giga feesttent bij de Arnhemse Rijnhal. De hal waar menig levenslied artiest is doorgebroken. Zo trad Frans Bauer in deze unieke hal voor het eerst op voor meer dan 4000 bezoekers. \nFranz Joostink heeft de allerbeste levenslied artiesten van Arnhem en omstreken uitgenodigd om het feest compleet te maken. \nNaast Franz Joostink en zijn getalenteerde zoon Franz Joostink JR\, betreden Jaman\, Patrick Damian\, Bjorn Klok\, Marvin de Geest\, de Witte Tjabo\, Priscilla Ophof\, Mike Sanders\, Ravi Munoz\, Kobus Engels\, Willem Huisman\, Delano Scheffers en nog een aantal mystery guests het mega podium. Het Arnhems Levenslied feest mondt uit in een spetterend concert van de allerbeste André Hazes Tribute band: Gewoon André. \n
URL:https://uitinarnhem.nl/agenda/arnhems-levenslied/
LOCATION:Rijnhal Arnhem\, Olympus 1\, Arnhem\, 6832 EL\, Nederland
CATEGORIES:Festival,Muziek
ATTACH;FMTTYPE=image/jpeg:https://uitinarnhem.nl/wp-content/uploads/2024/03/Persfoto-GEWOON-ANDRÉ-Logo-klein_scaled-scaled.jpg
END:VEVENT
END:VCALENDAR