BEGIN:VCALENDAR
VERSION:2.0
PRODID:-//Uit in Arnhem - ECPv5.0.0.2//NONSGML v1.0//EN
CALSCALE:GREGORIAN
METHOD:PUBLISH
X-WR-CALNAME:Uit in Arnhem
X-ORIGINAL-URL:https://uitinarnhem.nl
X-WR-CALDESC:Events for Uit in Arnhem
BEGIN:VTIMEZONE
TZID:Europe/Amsterdam
BEGIN:DAYLIGHT
TZOFFSETFROM:+0100
TZOFFSETTO:+0200
TZNAME:CEST
DTSTART:20250330T010000
END:DAYLIGHT
BEGIN:STANDARD
TZOFFSETFROM:+0200
TZOFFSETTO:+0100
TZNAME:CET
DTSTART:20251026T010000
END:STANDARD
END:VTIMEZONE
BEGIN:VEVENT
DTSTART;TZID=Europe/Amsterdam:20251231T150000
DTEND;TZID=Europe/Amsterdam:20251231T173000
DTSTAMP:20260421T040404
CREATED:20251207T150109Z
LAST-MODIFIED:20251207T150109Z
UID:13858-1767193200-1767202200@uitinarnhem.nl
SUMMARY:Arnhem Zingt TOP2000 op Jansplein
DESCRIPTION:Singalong samen het jaar uit! Kom op woensdagmiddag 31 december naar het Jansplein en bezorg jezelf de ultieme oudejaars-vibes: gezelligheid\, saamhorigheid en een heleboel mooie muziek. \nZin om ook dit jaar samen te zingen\, dansen én feesten op de playlist van je leven? Dan is Arnhem Zingt TOP2000 hét feestje dat je niet mag missen! De zangers en band van Vocal Vibes zetten samen met het publiek de Arnhemse binnenstad op stelten en maken er één groot muziekfeest van. Van 15.00 tot 17.30 uur neemt een zevenkoppige vocal band je met meerstemmige zang en stevige beats mee langs de lekkerste\, mooiste TOP2000 hits. De songteksten verschijnen op grote schermen\, en zingen maar! \nKies jouw favorieten in de TOP2000\nWat wordt er gezongen tijdens Arnhem Zingt TOP2000? Natuurlijk kun je lekker komen meezingen en mee swingen met zangers en band. Maar het wordt nóg leuker als je ook zelf jouw favoriete nummers instuurt! Want de playlist voor Arnhem Zingt TOP2000 wordt samengesteld uit de voorkeuren van het publiek. \nDus geef aan welke nummers uit de TOP2000 van vorig jaar jij zéker wil horen of wat je zelf graag wil toevoegen aan de playlist voor 31 december 2025. Wordt het weer Bohemian Rhapsody van Queen of kies jij voor een andere nummer 1? \nBreng jouw stem uit vóór 15 december 2025 op http://www.winterarnhem.nl/top2000 en kom op 31 december om 15.00 uur naar Jansplein om lekker mee te zingen! \nOver Vocal Vibes\nStichting Vocal Vibes stelt zich ten doel zoveel mogelijk mensen de magie van samen zingen te laten ervaren. Omdat samen zingen nu eenmaal de kortste weg is naar verbinding en happy vibes. Let’s join voices and make magic!\nVoor meer informatie: http://www.vocalvibes.nl \n
URL:https://uitinarnhem.nl/agenda/arnhem-zingt-top2000-op-jansplein/
LOCATION:jansplein\, Jansplein\, Arnhem\, 6811GD\, Nederland
CATEGORIES:Actief,Muziek,Overig
ATTACH;FMTTYPE=image/jpeg:https://uitinarnhem.nl/wp-content/uploads/2025/12/Top-2000-2-1920x1281-1.jpg
END:VEVENT
END:VCALENDAR