BEGIN:VCALENDAR
VERSION:2.0
PRODID:-//Uit in Arnhem - ECPv5.0.0.2//NONSGML v1.0//EN
CALSCALE:GREGORIAN
METHOD:PUBLISH
X-WR-CALNAME:Uit in Arnhem
X-ORIGINAL-URL:https://uitinarnhem.nl
X-WR-CALDESC:Events for Uit in Arnhem
BEGIN:VTIMEZONE
TZID:Europe/Amsterdam
BEGIN:DAYLIGHT
TZOFFSETFROM:+0100
TZOFFSETTO:+0200
TZNAME:CEST
DTSTART:20240331T010000
END:DAYLIGHT
BEGIN:STANDARD
TZOFFSETFROM:+0200
TZOFFSETTO:+0100
TZNAME:CET
DTSTART:20241027T010000
END:STANDARD
END:VTIMEZONE
BEGIN:VEVENT
DTSTART;VALUE=DATE:20240627
DTEND;VALUE=DATE:20240701
DTSTAMP:20260423T094744
CREATED:20240424T175355Z
LAST-MODIFIED:20240530T103025Z
UID:9207-1719446400-1719791999@uitinarnhem.nl
SUMMARY:Arnhem Proeft 2024
DESCRIPTION:\n\n\n\n\nArnhem Proeft 2024: Een culinair smaakfestival voor fijnproevers en levensgenieters\nMidden in het centrum van Arnhem\, op de centrale Markt\, zullen dit jaar weer 20 keukens uit de Arnhemse horeca zich presenteren\, de mooiste en lekkerste gerechten laten proeven en de hipste drankjes schenken. Arnhem zet zichzelf in de etalage.\nDat wordt weer genieten tijdens Arnhem Proeft 2024! \nSamen met je familie en vrienden geniet je middenin de historisch binnenstad van optredens\, verrassende verwennerijen\, lekker zomerse drankjes\, eten en natuurlijk van elkaar\, want Arnhem Proeft in Arnhem heeft zich ontwikkeld tot een waar trefpunt. \nOp en rond de podia\nArnhem Proeft! is gebaseerd op talent; dans\, muziek\, theater op de podia en kunst & cultuur! Samenwerkingen met o.a. opleiding- en kennisinstituten\, zoals bijv. dansschool Versteegh en ArtEZ Academie voor beeldende kunsten Arnhem\, zorgen voor een nieuwsgierig makende basis en aanmeldingen van andere talenten die ons podium hebben gezocht en gekregen\, completeren het geheel.\nBekijk hier het hele programma. \nOpeningstijden 2024\n27 juni 15.30 – 18.00 uur ArnhemProeft! BusinessXXL (exclusief b2b)\n27 juni 17:00 – 24:00 uur\n28 juni 16:00 – 24:00 uur\n29 juni 14:00 – 24:00 uur\n30 juni 14:00 – 22:00 uur\n\nEen toegangskaart kost € 7\,50. \nArnhemProeft! BetaalPas\nOp het evenementen terrein wordt er met Betaalpassen met barcode gewerkt.\nBij de entree ontvang je nog wel een munt voor een gratis welkomstdrankje naar keuze aan de centrale bar.\n\nDe BetaalPas kun je zelf uploaden via uw mobiel in uw eigen iDEAL-omgeving. Je hoeft alleen de barcode op de kaart te scannen. Je mag er maximaal € 150\,- op zetten.\nHet saldo dat na ArnhemProeft! op de BetaalPas resteert kun je heel makkelijk terug boeken naar uw rekening. \nKijk voor wat er verder te doen is in Arnhem op onze agenda. \n\n\n\n\n\n
URL:https://uitinarnhem.nl/agenda/arnhem-proeft-2024/
LOCATION:Markt\, Markt\, Arnhem\, Nederland
CATEGORIES:Culinair,Festival
ATTACH;FMTTYPE=image/jpeg:https://uitinarnhem.nl/wp-content/uploads/2024/04/Arnhem-proeft.jpg
END:VEVENT
END:VCALENDAR