BEGIN:VCALENDAR
VERSION:2.0
PRODID:-//Uit in Arnhem - ECPv5.0.0.2//NONSGML v1.0//EN
CALSCALE:GREGORIAN
METHOD:PUBLISH
X-WR-CALNAME:Uit in Arnhem
X-ORIGINAL-URL:https://uitinarnhem.nl
X-WR-CALDESC:Events for Uit in Arnhem
BEGIN:VTIMEZONE
TZID:Europe/Amsterdam
BEGIN:DAYLIGHT
TZOFFSETFROM:+0100
TZOFFSETTO:+0200
TZNAME:CEST
DTSTART:20250330T010000
END:DAYLIGHT
BEGIN:STANDARD
TZOFFSETFROM:+0200
TZOFFSETTO:+0100
TZNAME:CET
DTSTART:20251026T010000
END:STANDARD
END:VTIMEZONE
BEGIN:VEVENT
DTSTART;TZID=Europe/Amsterdam:20250622T090000
DTEND;TZID=Europe/Amsterdam:20250622T180000
DTSTAMP:20260423T123820
CREATED:20250621T120954Z
LAST-MODIFIED:20250621T120955Z
UID:13333-1750582800-1750615200@uitinarnhem.nl
SUMMARY:Alpha City Run Arnhem
DESCRIPTION:Alpha City Run terug met twee keer zoveel obstakels \nAanstaande zondag 22 juni vindt de tweede editie van de Alpha City Run plaats in het centrum van Arnhem. Vanwege de verwachte warmte zijn de starttijden en afstanden aangepast en extra waterpunten toegevoegd. Dankzij een positief advies van de Veiligheids- en Gezondheidsregio Gelderland-Midden blijft de uitdaging onverminderd: deelnemers trotseren twee keer zoveel obstakels als vorig jaar. \nDe Alpha City Run is geen wedstrijd\, maar een beleving waarin samenwerking en diversiteit centraal staan. Iedereen – jong\, oud\, getraind of niet – wordt uitgedaagd om hand in hand obstakels te overwinnen. \n“Het draait niet om snelheid\, maar om elkaar helpen\,” zegt organisator Danny van Aanholt. “Samen maken we Arnhem sterker\, letterlijk én figuurlijk.” \nNet als vorig jaar doen er weer bekende gezichten mee. Burgemeester Ahmed Marcouch verbindt zich opnieuw aan de run én de thema’s waar de run voor staat. Hij wil laten zien dat bewegen verbindt – en zich bovendien bewijzen als fitste burgemeester van Nederland. Ook Fernando Halman en Morad El Ouakili\, bekend van onder andere FunX en PowNed\, lopen mee en dragen de boodschap van inclusie en mentale veerkracht actief uit. \nDe run ontstond 10 jaar geleden vanuit de droom om mensen niet alleen fysiek in beweging te brengen\, maar ook sociaal. In een tijd waarin eenzaamheid\, mentale druk en verschillen tussen mensen toenemen\, wil Alpha City Run een plek zijn waar verbinding\, plezier en gezondheid samenkomen. Obstakels vormen geen drempel\, maar juist een kans om samen verder te komen. Die droom werd in 2024 werkelijkheid\, toen de eerste succesvolle editie van Alpha City Run plaatsvond. \nMeer informatie en tickets: www.alphacityrun.com \n  \n
URL:https://uitinarnhem.nl/agenda/alpha-city-run-arnhem/
CATEGORIES:Actief,Sport
ATTACH;FMTTYPE=image/jpeg:https://uitinarnhem.nl/wp-content/uploads/2025/06/Alpha-city-run-1.jpg
END:VEVENT
END:VCALENDAR