BEGIN:VCALENDAR
VERSION:2.0
PRODID:-//Uit in Arnhem - ECPv5.0.0.2//NONSGML v1.0//EN
CALSCALE:GREGORIAN
METHOD:PUBLISH
X-WR-CALNAME:Uit in Arnhem
X-ORIGINAL-URL:https://uitinarnhem.nl
X-WR-CALDESC:Events for Uit in Arnhem
BEGIN:VTIMEZONE
TZID:Europe/Amsterdam
BEGIN:DAYLIGHT
TZOFFSETFROM:+0100
TZOFFSETTO:+0200
TZNAME:CEST
DTSTART:20250330T010000
END:DAYLIGHT
BEGIN:STANDARD
TZOFFSETFROM:+0200
TZOFFSETTO:+0100
TZNAME:CET
DTSTART:20251026T010000
END:STANDARD
END:VTIMEZONE
BEGIN:VEVENT
DTSTART;TZID=Europe/Amsterdam:20250918T200000
DTEND;TZID=Europe/Amsterdam:20250921T170000
DTSTAMP:20260421T072243
CREATED:20250906T180700Z
LAST-MODIFIED:20250906T180700Z
UID:13635-1758225600-1758474000@uitinarnhem.nl
SUMMARY:Alle Dagen Heel Divers in Theater het Hof
DESCRIPTION:Alle Dagen Heel Divers is een (h)eerlijke cabaret voorstelling over leven met ADHD. \n2 jaar geleden kreeg Femke de diagnose ADHD. En daarmee ging er een wereld voor haar open. Bakken aan informatie\, boeken\, cursussen\, volledig in de hyperfocus leerde Femke haar eigen brein begrijpen\, vergeven en fijner gebruiken.\nDit vat ze op haar humoristische en muzikale manier samen\, naar een heerlijke voorstelling van 1\,5 uur waarin je (met en zonder) ADHD beter leert begrijpen\, erom kan lachen en op zoek gaat naar je eigen handleiding.\nNouja… dat denkt ze. Want de tekst van (en over) haar voorstelling verandert elke dag. Maar het wordt sowieso leuk. Punt. \n18\, 19 en 20 september om 20.00 uur\n21 september om 15.00 uur\nTickets: https://femkevernij.weticket.io/adhd-arnhem/timeslots \n
URL:https://uitinarnhem.nl/agenda/alle-dagen-heel-divers-in-theater-het-hof/
LOCATION:Theater Het Hof\, Boekhorstenstraat 58\, Arnhem\, 6828DV
CATEGORIES:Cabaret,Informatief & Verrijking
ATTACH;FMTTYPE=image/jpeg:https://uitinarnhem.nl/wp-content/uploads/2025/09/ADHD-Alle-Dagen-Heel-Divers-Femke-Vernij-foto-Medea-Huisman-liggend-crop-002.jpg
END:VEVENT
END:VCALENDAR