BEGIN:VCALENDAR
VERSION:2.0
PRODID:-//Uit in Arnhem - ECPv5.0.0.2//NONSGML v1.0//EN
CALSCALE:GREGORIAN
METHOD:PUBLISH
X-WR-CALNAME:Uit in Arnhem
X-ORIGINAL-URL:https://uitinarnhem.nl
X-WR-CALDESC:Events for Uit in Arnhem
BEGIN:VTIMEZONE
TZID:Europe/Amsterdam
BEGIN:DAYLIGHT
TZOFFSETFROM:+0100
TZOFFSETTO:+0200
TZNAME:CEST
DTSTART:20210328T010000
END:DAYLIGHT
BEGIN:STANDARD
TZOFFSETFROM:+0200
TZOFFSETTO:+0100
TZNAME:CET
DTSTART:20211031T010000
END:STANDARD
END:VTIMEZONE
BEGIN:VEVENT
DTSTART;TZID=Europe/Amsterdam:20211104T201500
DTEND;TZID=Europe/Amsterdam:20211104T201500
DTSTAMP:20260421T072044
CREATED:20211011T091523Z
LAST-MODIFIED:20211011T091759Z
UID:7245-1636056900-1636056900@uitinarnhem.nl
SUMMARY:Ali B in Stadstheater Arnhem
DESCRIPTION:\nAli B. meet de temperatuur van de Nederlandse maatschappij in voorstelling koorts\n\n\nAli B timmert\, behalve als rapper\, jurylid bij The Voice en gevierd tv-programmamaker\, ook als theaterman stevig aan de weg. Ga maar na: in 2012 won hij met Ali B geeft antwoord de Neerlands Hoop-prijs\, voor Ali B beken(d)t werd hij genomineerd voor de Poelifinario en Matthijs van Nieuwkerk prees zijn laatste programma Je suis Ali de hemel in als “…misschien wel de belangrijkste theatervoorstelling van het seizoen”. \nBilspleet van de maatschappij\nNederland is misschien niet ziek\, maar heeft wel koorts. Net als Ali zelf. Het verhitte debat doet de temperatuur hoog oplopen en af en toe naderen we het kookpunt. Maar koorts is ook het begin van genezing. Ali steekt de thermometer in de bilspleet van de Nederlandse maatschappij en meet de temperatuur. \nIn zijn nieuwe show zijn er talloze onderwerpen waarop Ali zijn licht wil laten schijnen\, zowel persoonlijk als maatschappelijk. Daarbij wint zijn optimisme het nog altijd van zijn bezorgdheid. Of zoals hij het zelf bijna Cruijffiaans formuleert: “Zelfs als het misgaat\, komt het goed.” \n\n\nCREDITS\nregie: Titus Tiel Groenestege \n\nMeer info en tickets: https://www.musisenstadstheater.nl/programma/koorts/1577 \n
URL:https://uitinarnhem.nl/agenda/ali-b-in-stadstheater-arnhem/
LOCATION:Musis\, Velperbinnensingel 15\, Arnhem\, 6811BP\, Nederland
CATEGORIES:Theater
ATTACH;FMTTYPE=image/jpeg:https://uitinarnhem.nl/wp-content/uploads/2021/10/Ali-B-st_11_april_ali_b__2_.jpg
END:VEVENT
END:VCALENDAR