BEGIN:VCALENDAR
VERSION:2.0
PRODID:-//Uit in Arnhem - ECPv5.0.0.2//NONSGML v1.0//EN
CALSCALE:GREGORIAN
METHOD:PUBLISH
X-WR-CALNAME:Uit in Arnhem
X-ORIGINAL-URL:https://uitinarnhem.nl
X-WR-CALDESC:Events for Uit in Arnhem
BEGIN:VTIMEZONE
TZID:Europe/Amsterdam
BEGIN:DAYLIGHT
TZOFFSETFROM:+0100
TZOFFSETTO:+0200
TZNAME:CEST
DTSTART:20240331T010000
END:DAYLIGHT
BEGIN:STANDARD
TZOFFSETFROM:+0200
TZOFFSETTO:+0100
TZNAME:CET
DTSTART:20241027T010000
END:STANDARD
END:VTIMEZONE
BEGIN:VEVENT
DTSTART;TZID=Europe/Amsterdam:20241031T203000
DTEND;TZID=Europe/Amsterdam:20241031T223000
DTSTAMP:20260421T053517
CREATED:20241025T100406Z
LAST-MODIFIED:20241025T100406Z
UID:11313-1730406600-1730413800@uitinarnhem.nl
SUMMARY:Alex Roeka in het Posttheater
DESCRIPTION:Theaterconcert \nTreed binnen\, vrienden\, in het nachtcafé\,\nWaar Roeka achter de bar staat\nEn u laat proeven van exquise dranken\,\nDie onverwachte landschappen en verrassende vergezichten\nAan uw geestesoog voorbij doen glijden. \nZet u neer en laat u meevoeren\nDoor een aanstekelijke levenslust\nEn de daar onverbrekelijk mee verbonden melancholie. \nLaat u onderdompelen in wrange en opwindende liefdesverhalen. \nGa naar het toilet\, staar naar de snijdende muurpoëzie\,\nMijmer over de dingen die u zojuist gehoord heeft\nEn dans\, terugkomend uit uw eenzaamheid\,\nOp de klanken van het bandje in de hoek\,\nDat wel raad weet met ritme en virtuositeit. \nEn keer ten slotte halfdronken door het ochtendgloren huiswaarts\,\nVerrijkt en gelouterd. \nMet Jeroen Kleijn (drums) en Reyer Zwart (diverse instrumenten) \n
URL:https://uitinarnhem.nl/agenda/alex-roeka-in-het-posttheater/
LOCATION:Posttheater\, Rosendaalsestraat 27\, Arnhem\, 6824 CA\, Nederland
CATEGORIES:Muziek,Theater
ATTACH;FMTTYPE=image/jpeg:https://uitinarnhem.nl/wp-content/uploads/2024/10/event-ef4963ca-f31b-452f-a9f1-5e29beae04da-1.jpg
END:VEVENT
END:VCALENDAR